BEGIN:VCALENDAR
VERSION:2.0
PRODID:-//Radarpag - ECPv5.2.1.1//NONSGML v1.0//EN
CALSCALE:GREGORIAN
METHOD:PUBLISH
X-WR-CALNAME:Radarpag
X-ORIGINAL-URL:https://radarpag.com.br
X-WR-CALDESC:Eventos para Radarpag
BEGIN:VTIMEZONE
TZID:America/Sao_Paulo
BEGIN:STANDARD
TZOFFSETFROM:-0300
TZOFFSETTO:-0300
TZNAME:-03
DTSTART:20210101T000000
END:STANDARD
END:VTIMEZONE
BEGIN:VEVENT
DTSTART;TZID=America/Sao_Paulo:20210601T190000
DTEND;TZID=America/Sao_Paulo:20210601T200000
DTSTAMP:20260425T000854
CREATED:20210527T173421Z
LAST-MODIFIED:20210527T173421Z
UID:18561-1622574000-1622577600@radarpag.com.br
SUMMARY:Como usar o Pix para aumentar a sua conversão no varejo
DESCRIPTION:
URL:https://radarpag.com.br/evento/como-usar-o-pix-para-aumentar-a-sua-conversao-no-varejo/
LOCATION:Online\, Brazil
ATTACH;FMTTYPE=image/jpeg:https://radarpag.com.br/wp-content/uploads/2021/05/aarin_010621.jpg
END:VEVENT
BEGIN:VEVENT
DTSTART;TZID=America/Sao_Paulo:20210601T190000
DTEND;TZID=America/Sao_Paulo:20210601T210000
DTSTAMP:20260425T000854
CREATED:20210531T205727Z
LAST-MODIFIED:20210531T205727Z
UID:18979-1622574000-1622581200@radarpag.com.br
SUMMARY:O Brasil vai ficar laranja! 120 novos escritórios de investimentos Itaú
DESCRIPTION:
URL:https://radarpag.com.br/evento/o-brasil-vai-ficar-laranja-120-novos-escritorios-de-investimentos-itau/
LOCATION:Online\, Brazil
ATTACH;FMTTYPE=image/jpeg:https://radarpag.com.br/wp-content/uploads/2021/05/itau-unibanco_010621.jpg
END:VEVENT
BEGIN:VEVENT
DTSTART;TZID=America/Sao_Paulo:20210602T120000
DTEND;TZID=America/Sao_Paulo:20210602T130000
DTSTAMP:20260425T000854
CREATED:20210531T205723Z
LAST-MODIFIED:20210531T205723Z
UID:18977-1622635200-1622638800@radarpag.com.br
SUMMARY:Evolução do uso de dados na Indústria de Crédito no Open Banking
DESCRIPTION:
URL:https://radarpag.com.br/evento/evolucao-do-uso-de-dados-na-industria-de-credito-no-open-banking/
LOCATION:Online\, Brazil
ATTACH;FMTTYPE=image/jpeg:https://radarpag.com.br/wp-content/uploads/2021/05/guiabolso_020621.jpg
END:VEVENT
BEGIN:VEVENT
DTSTART;TZID=America/Sao_Paulo:20210602T200000
DTEND;TZID=America/Sao_Paulo:20210602T210000
DTSTAMP:20260425T000854
CREATED:20210527T173426Z
LAST-MODIFIED:20210527T173426Z
UID:18563-1622664000-1622667600@radarpag.com.br
SUMMARY:Finanças e Mercado Financeiro: Insights com a Economista-chefe da Brasilprev
DESCRIPTION:
URL:https://radarpag.com.br/evento/financas-e-mercado-financeiro-insights-com-a-economista-chefe-da-brasilprev/
LOCATION:Online\, Brazil
ATTACH;FMTTYPE=image/jpeg:https://radarpag.com.br/wp-content/uploads/2021/05/fia_020621.jpg
END:VEVENT
BEGIN:VEVENT
DTSTART;TZID=America/Sao_Paulo:20210607T060000
DTEND;TZID=America/Sao_Paulo:20210607T180000
DTSTAMP:20260425T000854
CREATED:20210426T181410Z
LAST-MODIFIED:20210426T181410Z
UID:14079-1623045600-1623088800@radarpag.com.br
SUMMARY:Open Banking Week Global 2021
DESCRIPTION:
URL:https://radarpag.com.br/evento/open-banking-week-global-2021/
LOCATION:Online\, Brazil
ATTACH;FMTTYPE=image/jpeg:https://radarpag.com.br/wp-content/uploads/2021/04/open-banking-week_070621.jpg
END:VEVENT
BEGIN:VEVENT
DTSTART;TZID=America/Sao_Paulo:20210607T090000
DTEND;TZID=America/Sao_Paulo:20210607T180000
DTSTAMP:20260425T000854
CREATED:20210517T185031Z
LAST-MODIFIED:20210517T185031Z
UID:17188-1623056400-1623088800@radarpag.com.br
SUMMARY:FBC 2021 - O Maior Evento Online de Seguros de Transportes do Brasil
DESCRIPTION:
URL:https://radarpag.com.br/evento/fbc-2021-o-maior-evento-online-de-seguros-de-transportes-do-brasil/
LOCATION:Online\, Brazil
ATTACH;FMTTYPE=image/jpeg:https://radarpag.com.br/wp-content/uploads/2021/05/fetransporte-brasil_070621.jpg
END:VEVENT
BEGIN:VEVENT
DTSTART;TZID=America/Sao_Paulo:20210608T093000
DTEND;TZID=America/Sao_Paulo:20210608T110000
DTSTAMP:20260425T000854
CREATED:20210607T202854Z
LAST-MODIFIED:20210607T202854Z
UID:19682-1623144600-1623150000@radarpag.com.br
SUMMARY:Conexões JHSP // A Transformação Do Setor Financeiro
DESCRIPTION:
URL:https://radarpag.com.br/evento/conexoes-jhsp-a-transformacao-do-setor-financeiro/
LOCATION:Online\, Brazil
ATTACH;FMTTYPE=image/jpeg:https://radarpag.com.br/wp-content/uploads/2021/06/japan-house_080621.jpg
END:VEVENT
BEGIN:VEVENT
DTSTART;TZID=America/Sao_Paulo:20210609T080000
DTEND;TZID=America/Sao_Paulo:20210609T180000
DTSTAMP:20260425T000854
CREATED:20210527T173423Z
LAST-MODIFIED:20210527T173423Z
UID:18562-1623225600-1623261600@radarpag.com.br
SUMMARY:Mastering | Consumer Credit Trends
DESCRIPTION:
URL:https://radarpag.com.br/evento/mastering-consumer-credit-trends/
LOCATION:Online\, Brazil
ATTACH;FMTTYPE=image/jpeg:https://radarpag.com.br/wp-content/uploads/2021/05/ebdi_090621.jpg
END:VEVENT
BEGIN:VEVENT
DTSTART;TZID=America/Sao_Paulo:20210609T170000
DTEND;TZID=America/Sao_Paulo:20210609T180000
DTSTAMP:20260425T000854
CREATED:20210531T205721Z
LAST-MODIFIED:20210531T205721Z
UID:18976-1623258000-1623261600@radarpag.com.br
SUMMARY:Papo Pix LIVE: A popularização do Pix e o crescimento do Varejo on-line
DESCRIPTION:
URL:https://radarpag.com.br/evento/papo-pix-live-a-popularizacao-do-pix-e-o-crescimento-do-varejo-on-line/
LOCATION:Online\, Brazil
ATTACH;FMTTYPE=image/jpeg:https://radarpag.com.br/wp-content/uploads/2021/05/spin-pay_090621.jpg
END:VEVENT
BEGIN:VEVENT
DTSTART;TZID=America/Sao_Paulo:20210610T160000
DTEND;TZID=America/Sao_Paulo:20210610T160000
DTSTAMP:20260425T000854
CREATED:20210607T200920Z
LAST-MODIFIED:20210607T200920Z
UID:19674-1623340800-1623340800@radarpag.com.br
SUMMARY:Open Banking na Prática - Contagem regressiva para a 2ª fase
DESCRIPTION:
URL:https://radarpag.com.br/evento/open-banking-na-pratica-contagem-regressiva-para-a-2a-fase/
LOCATION:Online\, Brazil
END:VEVENT
BEGIN:VEVENT
DTSTART;TZID=America/Sao_Paulo:20210610T233000
DTEND;TZID=America/Sao_Paulo:20210610T233000
DTSTAMP:20260425T000854
CREATED:20210607T200924Z
LAST-MODIFIED:20210607T200924Z
UID:19675-1623367800-1623367800@radarpag.com.br
SUMMARY:Prós e Contras da LGPD
DESCRIPTION:
URL:https://radarpag.com.br/evento/pros-e-contras-da-lgpd/
LOCATION:Online\, Brazil
END:VEVENT
BEGIN:VEVENT
DTSTART;TZID=America/Sao_Paulo:20210611T100000
DTEND;TZID=America/Sao_Paulo:20210611T100000
DTSTAMP:20260425T000854
CREATED:20210527T173311Z
LAST-MODIFIED:20210527T173311Z
UID:18560-1623405600-1623405600@radarpag.com.br
SUMMARY:Monitor CX-Financeiro | Webinar Genesys
DESCRIPTION:
URL:https://radarpag.com.br/evento/monitor-cx-financeiro-webinar-genesys/
LOCATION:Online\, Brazil
END:VEVENT
BEGIN:VEVENT
DTSTART;TZID=America/Sao_Paulo:20210611T163000
DTEND;TZID=America/Sao_Paulo:20210611T163000
DTSTAMP:20260425T000854
CREATED:20210611T132447Z
LAST-MODIFIED:20210611T132447Z
UID:20400-1623429000-1623429000@radarpag.com.br
SUMMARY:Uso de Bitcoin como moeda corrente e regulação de criptomoedas
DESCRIPTION:
URL:https://radarpag.com.br/evento/uso-de-bitcoin-como-moeda-corrente-e-regulacao-de-criptomoedas/
LOCATION:Online\, Brazil
ATTACH;FMTTYPE=image/jpeg:https://radarpag.com.br/wp-content/uploads/2021/06/valor-investe_110621.jpg
END:VEVENT
BEGIN:VEVENT
DTSTART;TZID=America/Sao_Paulo:20210615T090000
DTEND;TZID=America/Sao_Paulo:20210615T180000
DTSTAMP:20260425T000854
CREATED:20210419T182900Z
LAST-MODIFIED:20210419T183352Z
UID:13137-1623747600-1623780000@radarpag.com.br
SUMMARY:Insurtech Latam Forum – Fórum Latino-Americano de Inovação em Seguros
DESCRIPTION:
URL:https://radarpag.com.br/evento/insurtech-latam-forum-forum-latino-americano-de-inovacao-em-seguros/
LOCATION:Online\, Brazil
ATTACH;FMTTYPE=image/jpeg:https://radarpag.com.br/wp-content/uploads/2021/04/cms_150621.jpg
END:VEVENT
BEGIN:VEVENT
DTSTART;TZID=America/Sao_Paulo:20210615T100000
DTEND;TZID=America/Sao_Paulo:20210615T113000
DTSTAMP:20260425T000854
CREATED:20210609T182920Z
LAST-MODIFIED:20210609T182920Z
UID:20059-1623751200-1623756600@radarpag.com.br
SUMMARY:Mobile Time Live - Open banking: desafios para uma implementação segura e eficiente
DESCRIPTION:
URL:https://radarpag.com.br/evento/mobile-time-live-open-banking-desafios-para-uma-implementacao-segura-e-eficiente/
LOCATION:Online\, Brazil
ATTACH;FMTTYPE=image/jpeg:https://radarpag.com.br/wp-content/uploads/2021/06/mobile-time_150621.jpg
END:VEVENT
BEGIN:VEVENT
DTSTART;TZID=America/Sao_Paulo:20210615T140000
DTEND;TZID=America/Sao_Paulo:20210615T140000
DTSTAMP:20260425T000854
CREATED:20210614T193304Z
LAST-MODIFIED:20210614T193304Z
UID:20683-1623765600-1623765600@radarpag.com.br
SUMMARY:Open Banking: Conectando APIs a Legados Complexos de forma Ágil
DESCRIPTION:
URL:https://radarpag.com.br/evento/open-banking-conectando-apis-a-legados-complexos-de-forma-agil/
LOCATION:Online\, Brazil
END:VEVENT
BEGIN:VEVENT
DTSTART;TZID=America/Sao_Paulo:20210616T120000
DTEND;TZID=America/Sao_Paulo:20210616T120000
DTSTAMP:20260425T000854
CREATED:20210614T193301Z
LAST-MODIFIED:20210614T193301Z
UID:20682-1623844800-1623844800@radarpag.com.br
SUMMARY:Impacto do Open Banking nas instituições financeiras públicas
DESCRIPTION:
URL:https://radarpag.com.br/evento/impacto-do-open-banking-nas-instituicoes-financeiras-publicas/
LOCATION:Online\, Brazil
END:VEVENT
BEGIN:VEVENT
DTSTART;TZID=America/Sao_Paulo:20210616T140000
DTEND;TZID=America/Sao_Paulo:20210616T193000
DTSTAMP:20260425T000854
CREATED:20210531T205725Z
LAST-MODIFIED:20210531T205725Z
UID:18978-1623852000-1623871800@radarpag.com.br
SUMMARY:Fintech View 2021 I 6º edição
DESCRIPTION:
URL:https://radarpag.com.br/evento/fintech-view-2021-i-6o-edicao/
LOCATION:Online\, Brazil
ATTACH;FMTTYPE=image/jpeg:https://radarpag.com.br/wp-content/uploads/2021/05/idea-d_160621.jpg
END:VEVENT
BEGIN:VEVENT
DTSTART;TZID=America/Sao_Paulo:20210617T093000
DTEND;TZID=America/Sao_Paulo:20210617T120000
DTSTAMP:20260425T000854
CREATED:20210607T200926Z
LAST-MODIFIED:20210607T200926Z
UID:19676-1623922200-1623931200@radarpag.com.br
SUMMARY:Webinário Internacional sobre Garantia de Crédito a Pequenas e Médias Empresas
DESCRIPTION:
URL:https://radarpag.com.br/evento/webinario-internacional-sobre-garantia-de-credito-a-pequenas-e-medias-empresas/
LOCATION:Online\, Brazil
END:VEVENT
BEGIN:VEVENT
DTSTART;TZID=America/Sao_Paulo:20210617T170000
DTEND;TZID=America/Sao_Paulo:20210617T180000
DTSTAMP:20260425T000854
CREATED:20210614T195626Z
LAST-MODIFIED:20210614T195626Z
UID:20687-1623949200-1623952800@radarpag.com.br
SUMMARY:Webinar: Open Banking A Hora é Agora!
DESCRIPTION:
URL:https://radarpag.com.br/evento/webinar-open-banking-a-hora-e-agora/
LOCATION:Online\, Brazil
ATTACH;FMTTYPE=image/jpeg:https://radarpag.com.br/wp-content/uploads/2021/06/digibee_170621.jpg
END:VEVENT
BEGIN:VEVENT
DTSTART;TZID=America/Sao_Paulo:20210621T100000
DTEND;TZID=America/Sao_Paulo:20210621T100000
DTSTAMP:20260425T000854
CREATED:20210614T195631Z
LAST-MODIFIED:20210614T195631Z
UID:20689-1624269600-1624269600@radarpag.com.br
SUMMARY:Webinar | Lançamento ABB 2021
DESCRIPTION:
URL:https://radarpag.com.br/evento/webinar-lancamento-abb-2021/
LOCATION:Online\, Brazil
ATTACH;FMTTYPE=image/jpeg:https://radarpag.com.br/wp-content/uploads/2021/06/cantarino-brasileiro_210621.jpg
END:VEVENT
BEGIN:VEVENT
DTSTART;TZID=America/Sao_Paulo:20210622T090000
DTEND;TZID=America/Sao_Paulo:20210625T180000
DTSTAMP:20260425T000854
CREATED:20210622T174229Z
LAST-MODIFIED:20210622T174229Z
UID:22039-1624352400-1624644000@radarpag.com.br
SUMMARY:CIAB FEBRABAN 2021
DESCRIPTION:
URL:https://radarpag.com.br/evento/ciab-febraban-2021/
LOCATION:Online\, Brazil
END:VEVENT
BEGIN:VEVENT
DTSTART;TZID=America/Sao_Paulo:20210623T103000
DTEND;TZID=America/Sao_Paulo:20210623T110000
DTSTAMP:20260425T000854
CREATED:20210622T180521Z
LAST-MODIFIED:20210622T180521Z
UID:22050-1624444200-1624446000@radarpag.com.br
SUMMARY:APIs: O coração do ecossistema do Banking 4.X
DESCRIPTION:
URL:https://radarpag.com.br/evento/apis-o-coracao-do-ecossistema-do-banking-4-x/
LOCATION:Online\, Brazil
ATTACH;FMTTYPE=image/jpeg:https://radarpag.com.br/wp-content/uploads/2021/06/capgemini_230621_2.jpg
END:VEVENT
BEGIN:VEVENT
DTSTART;TZID=America/Sao_Paulo:20210623T113000
DTEND;TZID=America/Sao_Paulo:20210623T123000
DTSTAMP:20260425T000854
CREATED:20210614T195629Z
LAST-MODIFIED:20210614T195629Z
UID:20688-1624447800-1624451400@radarpag.com.br
SUMMARY:Apresentação exclusiva World FinTech Report 2021 - Capgemini e Efma
DESCRIPTION:
URL:https://radarpag.com.br/evento/apresentacao-exclusiva-world-fintech-report-2021-capgemini-e-efma/
LOCATION:Online\, Brazil
ATTACH;FMTTYPE=image/jpeg:https://radarpag.com.br/wp-content/uploads/2021/06/capgemini_230621.jpg
END:VEVENT
BEGIN:VEVENT
DTSTART;TZID=America/Sao_Paulo:20210623T120000
DTEND;TZID=America/Sao_Paulo:20210623T170000
DTSTAMP:20260425T000854
CREATED:20210622T174824Z
LAST-MODIFIED:20210622T174824Z
UID:22045-1624449600-1624467600@radarpag.com.br
SUMMARY:Como o Open Banking viabiliza a estratégia de plataformas financeiras completas
DESCRIPTION:
URL:https://radarpag.com.br/evento/como-o-open-banking-viabiliza-a-estrategia-de-plataformas-financeiras-completas/
LOCATION:Online\, Brazil
END:VEVENT
BEGIN:VEVENT
DTSTART;TZID=America/Sao_Paulo:20210624T170000
DTEND;TZID=America/Sao_Paulo:20210624T170000
DTSTAMP:20260425T000854
CREATED:20210622T174755Z
LAST-MODIFIED:20210622T174755Z
UID:22044-1624554000-1624554000@radarpag.com.br
SUMMARY:Open Banking na Prática: A nova relação dos brasileiros com os bancos
DESCRIPTION:
URL:https://radarpag.com.br/evento/open-banking-na-pratica-a-nova-relacao-dos-brasileiros-com-os-bancos/
LOCATION:Online\, Brazil
END:VEVENT
BEGIN:VEVENT
DTSTART;TZID=America/Sao_Paulo:20210625T150000
DTEND;TZID=America/Sao_Paulo:20210625T153000
DTSTAMP:20260425T000854
CREATED:20210622T180516Z
LAST-MODIFIED:20210622T180516Z
UID:22049-1624633200-1624635000@radarpag.com.br
SUMMARY:É hora de falar sobre Open Insurance (OPIN)!
DESCRIPTION:
URL:https://radarpag.com.br/evento/e-hora-de-falar-sobre-open-insurance-opin/
LOCATION:Online\, Brazil
ATTACH;FMTTYPE=image/jpeg:https://radarpag.com.br/wp-content/uploads/2021/06/capgemini_250621.jpg
END:VEVENT
BEGIN:VEVENT
DTSTART;TZID=America/Sao_Paulo:20210629T123000
DTEND;TZID=America/Sao_Paulo:20210629T123000
DTSTAMP:20260425T000854
CREATED:20210628T150644Z
LAST-MODIFIED:20210628T150644Z
UID:22954-1624969800-1624969800@radarpag.com.br
SUMMARY:Conexão Banestes - Open Banking
DESCRIPTION:
URL:https://radarpag.com.br/evento/conexao-banestes-open-banking/
LOCATION:Online\, Brazil
END:VEVENT
BEGIN:VEVENT
DTSTART;TZID=America/Sao_Paulo:20210629T150000
DTEND;TZID=America/Sao_Paulo:20210629T160000
DTSTAMP:20260425T000854
CREATED:20210628T152443Z
LAST-MODIFIED:20210628T152443Z
UID:22995-1624978800-1624982400@radarpag.com.br
SUMMARY:FORUM LGPD - Desafios para se adequar e a importância da escolha
DESCRIPTION:
URL:https://radarpag.com.br/evento/forum-lgpd-desafios-para-se-adequar-e-a-importancia-da-escolha/
LOCATION:Online\, Brazil
ATTACH;FMTTYPE=image/jpeg:https://radarpag.com.br/wp-content/uploads/2021/06/in-talks_290621.jpg
END:VEVENT
BEGIN:VEVENT
DTSTART;TZID=America/Sao_Paulo:20210629T180000
DTEND;TZID=America/Sao_Paulo:20210629T180000
DTSTAMP:20260425T000854
CREATED:20210628T150706Z
LAST-MODIFIED:20210628T150706Z
UID:22955-1624989600-1624989600@radarpag.com.br
SUMMARY:Café com Seguro Live l Open Banking e Open Insurance – A visão integrada do Banco Central e SUSEP
DESCRIPTION:
URL:https://radarpag.com.br/evento/cafe-com-seguro-live-l-open-banking-e-open-insurance-a-visao-integrada-do-banco-central-e-susep/
LOCATION:Online\, Brazil
END:VEVENT
BEGIN:VEVENT
DTSTART;TZID=America/Sao_Paulo:20210701T110000
DTEND;TZID=America/Sao_Paulo:20210701T120000
DTSTAMP:20260425T000854
CREATED:20210622T174113Z
LAST-MODIFIED:20210622T174113Z
UID:22038-1625137200-1625140800@radarpag.com.br
SUMMARY:Open Banking entrará na Fase 2. Quais os impactos dessa revolução?
DESCRIPTION:
URL:https://radarpag.com.br/evento/open-banking-entrara-na-fase-2-quais-os-impactos-dessa-revolucao/
LOCATION:Online\, Brazil
END:VEVENT
BEGIN:VEVENT
DTSTART;TZID=America/Sao_Paulo:20210701T180000
DTEND;TZID=America/Sao_Paulo:20210701T190000
DTSTAMP:20260425T000854
CREATED:20210628T152521Z
LAST-MODIFIED:20210628T152521Z
UID:22996-1625162400-1625166000@radarpag.com.br
SUMMARY:A especialização das fintechs: Conta Simples e gestão de despesas
DESCRIPTION:
URL:https://radarpag.com.br/evento/a-especializacao-das-fintechs-conta-simples-e-gestao-de-despesas/
LOCATION:Online\, Brazil
ATTACH;FMTTYPE=image/jpeg:https://radarpag.com.br/wp-content/uploads/2021/06/conta-simples_010721.jpg
END:VEVENT
END:VCALENDAR