BEGIN:VCALENDAR
VERSION:2.0
PRODID:-//Radarpag - ECPv5.2.1.1//NONSGML v1.0//EN
CALSCALE:GREGORIAN
METHOD:PUBLISH
X-WR-CALNAME:Radarpag
X-ORIGINAL-URL:https://radarpag.com.br
X-WR-CALDESC:Eventos para Radarpag
BEGIN:VTIMEZONE
TZID:America/Sao_Paulo
BEGIN:STANDARD
TZOFFSETFROM:-0300
TZOFFSETTO:-0300
TZNAME:-03
DTSTART:20210101T000000
END:STANDARD
END:VTIMEZONE
BEGIN:VEVENT
DTSTART;TZID=America/Sao_Paulo:20210629T123000
DTEND;TZID=America/Sao_Paulo:20210629T123000
DTSTAMP:20260424T222117
CREATED:20210628T150644Z
LAST-MODIFIED:20210628T150644Z
UID:22954-1624969800-1624969800@radarpag.com.br
SUMMARY:Conexão Banestes - Open Banking
DESCRIPTION:
URL:https://radarpag.com.br/evento/conexao-banestes-open-banking/
LOCATION:Online\, Brazil
END:VEVENT
BEGIN:VEVENT
DTSTART;TZID=America/Sao_Paulo:20210629T150000
DTEND;TZID=America/Sao_Paulo:20210629T160000
DTSTAMP:20260424T222117
CREATED:20210628T152443Z
LAST-MODIFIED:20210628T152443Z
UID:22995-1624978800-1624982400@radarpag.com.br
SUMMARY:FORUM LGPD - Desafios para se adequar e a importância da escolha
DESCRIPTION:
URL:https://radarpag.com.br/evento/forum-lgpd-desafios-para-se-adequar-e-a-importancia-da-escolha/
LOCATION:Online\, Brazil
ATTACH;FMTTYPE=image/jpeg:https://radarpag.com.br/wp-content/uploads/2021/06/in-talks_290621.jpg
END:VEVENT
BEGIN:VEVENT
DTSTART;TZID=America/Sao_Paulo:20210629T180000
DTEND;TZID=America/Sao_Paulo:20210629T180000
DTSTAMP:20260424T222117
CREATED:20210628T150706Z
LAST-MODIFIED:20210628T150706Z
UID:22955-1624989600-1624989600@radarpag.com.br
SUMMARY:Café com Seguro Live l Open Banking e Open Insurance – A visão integrada do Banco Central e SUSEP
DESCRIPTION:
URL:https://radarpag.com.br/evento/cafe-com-seguro-live-l-open-banking-e-open-insurance-a-visao-integrada-do-banco-central-e-susep/
LOCATION:Online\, Brazil
END:VEVENT
BEGIN:VEVENT
DTSTART;TZID=America/Sao_Paulo:20210701T110000
DTEND;TZID=America/Sao_Paulo:20210701T120000
DTSTAMP:20260424T222117
CREATED:20210622T174113Z
LAST-MODIFIED:20210622T174113Z
UID:22038-1625137200-1625140800@radarpag.com.br
SUMMARY:Open Banking entrará na Fase 2. Quais os impactos dessa revolução?
DESCRIPTION:
URL:https://radarpag.com.br/evento/open-banking-entrara-na-fase-2-quais-os-impactos-dessa-revolucao/
LOCATION:Online\, Brazil
END:VEVENT
BEGIN:VEVENT
DTSTART;TZID=America/Sao_Paulo:20210701T180000
DTEND;TZID=America/Sao_Paulo:20210701T190000
DTSTAMP:20260424T222117
CREATED:20210628T152521Z
LAST-MODIFIED:20210628T152521Z
UID:22996-1625162400-1625166000@radarpag.com.br
SUMMARY:A especialização das fintechs: Conta Simples e gestão de despesas
DESCRIPTION:
URL:https://radarpag.com.br/evento/a-especializacao-das-fintechs-conta-simples-e-gestao-de-despesas/
LOCATION:Online\, Brazil
ATTACH;FMTTYPE=image/jpeg:https://radarpag.com.br/wp-content/uploads/2021/06/conta-simples_010721.jpg
END:VEVENT
BEGIN:VEVENT
DTSTART;TZID=America/Sao_Paulo:20210705T090000
DTEND;TZID=America/Sao_Paulo:20210705T170000
DTSTAMP:20260424T222117
CREATED:20210628T152343Z
LAST-MODIFIED:20210628T152343Z
UID:22994-1625475600-1625504400@radarpag.com.br
SUMMARY:Desafios da LGPD nos primeiros anos de sua vigência
DESCRIPTION:
URL:https://radarpag.com.br/evento/desafios-da-lgpd-nos-primeiros-anos-de-sua-vigencia/
LOCATION:Online\, Brazil
END:VEVENT
BEGIN:VEVENT
DTSTART;TZID=America/Sao_Paulo:20210706T100000
DTEND;TZID=America/Sao_Paulo:20210706T100000
DTSTAMP:20260424T222117
CREATED:20210628T145956Z
LAST-MODIFIED:20210705T185828Z
UID:22951-1625565600-1625565600@radarpag.com.br
SUMMARY:Nubank - Veja o que ninguém viu | Descubra tudo
DESCRIPTION:
URL:https://radarpag.com.br/evento/nubank-veja-o-que-ninguem-viu-descubra-tudo/
LOCATION:Online\, Brazil
CATEGORIES:Destaques
END:VEVENT
BEGIN:VEVENT
DTSTART;TZID=America/Sao_Paulo:20210706T153000
DTEND;TZID=America/Sao_Paulo:20210706T153000
DTSTAMP:20260424T222117
CREATED:20210705T184458Z
LAST-MODIFIED:20210705T184458Z
UID:24162-1625585400-1625585400@radarpag.com.br
SUMMARY:Webinar Serpro: LGPD e Open Banking
DESCRIPTION:
URL:https://radarpag.com.br/evento/webinar-serpro-lgpd-e-open-banking/
LOCATION:Online\, Brazil
END:VEVENT
BEGIN:VEVENT
DTSTART;TZID=America/Sao_Paulo:20210706T180000
DTEND;TZID=America/Sao_Paulo:20210706T193000
DTSTAMP:20260424T222117
CREATED:20210705T185712Z
LAST-MODIFIED:20210705T185712Z
UID:24174-1625594400-1625599800@radarpag.com.br
SUMMARY:Futuro do Seguro 🇧🇷
DESCRIPTION:
URL:https://radarpag.com.br/evento/futuro-do-seguro-%f0%9f%87%a7%f0%9f%87%b7/
LOCATION:Online\, Brazil
ATTACH;FMTTYPE=image/jpeg:https://radarpag.com.br/wp-content/uploads/2021/07/nion_060721.jpg
END:VEVENT
BEGIN:VEVENT
DTSTART;TZID=America/Sao_Paulo:20210706T190000
DTEND;TZID=America/Sao_Paulo:20210706T190000
DTSTAMP:20260424T222117
CREATED:20210705T184453Z
LAST-MODIFIED:20210705T184453Z
UID:24160-1625598000-1625598000@radarpag.com.br
SUMMARY:CertLive | Videoconferência na Emissão Primária e Open Banking
DESCRIPTION:
URL:https://radarpag.com.br/evento/certlive-videoconferencia-na-emissao-primaria-e-open-banking/
LOCATION:Online\, Brazil
END:VEVENT
BEGIN:VEVENT
DTSTART;TZID=America/Sao_Paulo:20210706T200000
DTEND;TZID=America/Sao_Paulo:20210706T200000
DTSTAMP:20260424T222117
CREATED:20210705T184451Z
LAST-MODIFIED:20210705T184451Z
UID:24159-1625601600-1625601600@radarpag.com.br
SUMMARY:Open Banking - O que é? Como afeta seu bolso?
DESCRIPTION:
URL:https://radarpag.com.br/evento/open-banking-o-que-e-como-afeta-seu-bolso/
LOCATION:Online\, Brazil
END:VEVENT
BEGIN:VEVENT
DTSTART;TZID=America/Sao_Paulo:20210707T180000
DTEND;TZID=America/Sao_Paulo:20210707T180000
DTSTAMP:20260424T222117
CREATED:20210705T184456Z
LAST-MODIFIED:20210705T184456Z
UID:24161-1625680800-1625680800@radarpag.com.br
SUMMARY:Open Banking – Fase 2 | Workshop do Bem FIAP
DESCRIPTION:
URL:https://radarpag.com.br/evento/open-banking-fase-2-workshop-do-bem-fiap/
LOCATION:Online\, Brazil
END:VEVENT
BEGIN:VEVENT
DTSTART;TZID=America/Sao_Paulo:20210708T170000
DTEND;TZID=America/Sao_Paulo:20210708T170000
DTSTAMP:20260424T222117
CREATED:20210705T184501Z
LAST-MODIFIED:20210705T184501Z
UID:24163-1625763600-1625763600@radarpag.com.br
SUMMARY:WEBINAR ANCORD OPEN BANKING - ENCONTRO COM O BANCO CENTRAL
DESCRIPTION:
URL:https://radarpag.com.br/evento/webinar-ancord-open-banking-encontro-com-o-banco-central/
LOCATION:Online\, Brazil
END:VEVENT
BEGIN:VEVENT
DTSTART;TZID=America/Sao_Paulo:20210708T190000
DTEND;TZID=America/Sao_Paulo:20210708T210000
DTSTAMP:20260424T222117
CREATED:20210622T180513Z
LAST-MODIFIED:20210622T180513Z
UID:22048-1625770800-1625778000@radarpag.com.br
SUMMARY:Webinar - Pagamentos digitais
DESCRIPTION:
URL:https://radarpag.com.br/evento/webinar-pagamentos-digitais/
LOCATION:Online\, Brazil
ATTACH;FMTTYPE=image/jpeg:https://radarpag.com.br/wp-content/uploads/2021/06/vtex_080721.jpg
END:VEVENT
BEGIN:VEVENT
DTSTART;TZID=America/Sao_Paulo:20210714T140000
DTEND;TZID=America/Sao_Paulo:20210714T150000
DTSTAMP:20260424T222117
CREATED:20210705T185709Z
LAST-MODIFIED:20210705T185709Z
UID:24173-1626271200-1626274800@radarpag.com.br
SUMMARY:Webinar: Open Banking e Segurança Client-Side de Aplicações Bancárias
DESCRIPTION:
URL:https://radarpag.com.br/evento/webinar-open-banking-e-seguranca-client-side-de-aplicacoes-bancarias/
LOCATION:Online\, Brazil
ATTACH;FMTTYPE=image/jpeg:https://radarpag.com.br/wp-content/uploads/2021/07/jscrambler_140721.jpg
END:VEVENT
BEGIN:VEVENT
DTSTART;TZID=America/Sao_Paulo:20210715T190000
DTEND;TZID=America/Sao_Paulo:20210715T200000
DTSTAMP:20260424T222117
CREATED:20210712T221736Z
LAST-MODIFIED:20210712T221736Z
UID:25227-1626375600-1626379200@radarpag.com.br
SUMMARY:Saiba mais sobre a Carreira de Especialista de Investimentos no Itaú
DESCRIPTION:
URL:https://radarpag.com.br/evento/saiba-mais-sobre-a-carreira-de-especialista-de-investimentos-no-itau/
LOCATION:Online\, Brazil
ATTACH;FMTTYPE=image/jpeg:https://radarpag.com.br/wp-content/uploads/2021/07/itau-unibanco_150721.jpg
END:VEVENT
BEGIN:VEVENT
DTSTART;TZID=America/Sao_Paulo:20210720T090000
DTEND;TZID=America/Sao_Paulo:20210720T180000
DTSTAMP:20260424T222117
CREATED:20210712T221738Z
LAST-MODIFIED:20210712T221738Z
UID:25228-1626771600-1626804000@radarpag.com.br
SUMMARY:E-Commerce Big Solutions Black Friday 2021
DESCRIPTION:
URL:https://radarpag.com.br/evento/e-commerce-big-solutions-black-friday-2021/
LOCATION:Online\, Brazil
ATTACH;FMTTYPE=image/jpeg:https://radarpag.com.br/wp-content/uploads/2021/07/e-commerce-brasil_200721.jpg
END:VEVENT
BEGIN:VEVENT
DTSTART;TZID=America/Sao_Paulo:20210721T090000
DTEND;TZID=America/Sao_Paulo:20210721T193000
DTSTAMP:20260424T222117
CREATED:20210719T204026Z
LAST-MODIFIED:20210719T204026Z
UID:26350-1626858000-1626895800@radarpag.com.br
SUMMARY:CERIMÔNIA DE PREMIAÇÃO OPEN FINANCE AWARDS
DESCRIPTION:
URL:https://radarpag.com.br/evento/cerimonia-de-premiacao-open-finance-awards/
LOCATION:Online\, Brazil
ATTACH;FMTTYPE=image/jpeg:https://radarpag.com.br/wp-content/uploads/2021/07/cantarino-brasileiro_210721.jpg
END:VEVENT
BEGIN:VEVENT
DTSTART;TZID=America/Sao_Paulo:20210721T120000
DTEND;TZID=America/Sao_Paulo:20210721T120000
DTSTAMP:20260424T222117
CREATED:20210719T202942Z
LAST-MODIFIED:20210719T202942Z
UID:26345-1626868800-1626868800@radarpag.com.br
SUMMARY:Como o open banking e o cadastro positivo se complementam | Guiabolso Cast
DESCRIPTION:
URL:https://radarpag.com.br/evento/como-o-open-banking-e-o-cadastro-positivo-se-complementam-guiabolso-cast/
LOCATION:Online\, Brazil
END:VEVENT
BEGIN:VEVENT
DTSTART;TZID=America/Sao_Paulo:20210721T130000
DTEND;TZID=America/Sao_Paulo:20210721T130000
DTSTAMP:20260424T222117
CREATED:20210719T203003Z
LAST-MODIFIED:20210719T203003Z
UID:26346-1626872400-1626872400@radarpag.com.br
SUMMARY:Embedded Finance: OpenBanking y Medios de pago
DESCRIPTION:
URL:https://radarpag.com.br/evento/embedded-finance-openbanking-y-medios-de-pago/
LOCATION:Online\, Brazil
END:VEVENT
BEGIN:VEVENT
DTSTART;TZID=America/Sao_Paulo:20210728T183000
DTEND;TZID=America/Sao_Paulo:20210728T193000
DTSTAMP:20260424T222117
CREATED:20210712T221707Z
LAST-MODIFIED:20210712T221707Z
UID:25225-1627497000-1627500600@radarpag.com.br
SUMMARY:Crédito e gerenciamento de garantias
DESCRIPTION:
URL:https://radarpag.com.br/evento/credito-e-gerenciamento-de-garantias/
LOCATION:Online\, Brazil
ATTACH;FMTTYPE=image/jpeg:https://radarpag.com.br/wp-content/uploads/2021/07/cms_280721.jpg
END:VEVENT
END:VCALENDAR