BEGIN:VCALENDAR
VERSION:2.0
PRODID:-//Radarpag - ECPv5.2.1.1//NONSGML v1.0//EN
CALSCALE:GREGORIAN
METHOD:PUBLISH
X-WR-CALNAME:Radarpag
X-ORIGINAL-URL:https://radarpag.com.br
X-WR-CALDESC:Eventos para Radarpag
BEGIN:VTIMEZONE
TZID:America/Sao_Paulo
BEGIN:STANDARD
TZOFFSETFROM:-0300
TZOFFSETTO:-0300
TZNAME:-03
DTSTART:20210101T000000
END:STANDARD
END:VTIMEZONE
BEGIN:VEVENT
DTSTART;TZID=America/Sao_Paulo:20210802T190000
DTEND;TZID=America/Sao_Paulo:20210802T211500
DTSTAMP:20260424T204046
CREATED:20210802T194743Z
LAST-MODIFIED:20210802T194743Z
UID:28546-1627930800-1627938900@radarpag.com.br
SUMMARY:Let's Gonew Advisors: Criptomoedas de Bancos Centrais e Real Digital
DESCRIPTION:
URL:https://radarpag.com.br/evento/lets-gonew-advisors-criptomoedas-de-bancos-centrais-e-real-digital/
LOCATION:Online\, Brazil
ATTACH;FMTTYPE=image/jpeg:https://radarpag.com.br/wp-content/uploads/2021/08/gonewco_020821.jpg
END:VEVENT
BEGIN:VEVENT
DTSTART;TZID=America/Sao_Paulo:20210803T170000
DTEND;TZID=America/Sao_Paulo:20210803T200000
DTSTAMP:20260424T204046
CREATED:20210802T194736Z
LAST-MODIFIED:20210802T194736Z
UID:28543-1628010000-1628020800@radarpag.com.br
SUMMARY:Como a transformação digital está impactando os meios de pagamento
DESCRIPTION:
URL:https://radarpag.com.br/evento/como-a-transformacao-digital-esta-impactando-os-meios-de-pagamento/
LOCATION:Online\, Brazil
ATTACH;FMTTYPE=image/jpeg:https://radarpag.com.br/wp-content/uploads/2021/08/transferrea_030821.jpg
END:VEVENT
BEGIN:VEVENT
DTSTART;TZID=America/Sao_Paulo:20210810T170000
DTEND;TZID=America/Sao_Paulo:20210810T180000
DTSTAMP:20260424T204046
CREATED:20210719T204030Z
LAST-MODIFIED:20210719T204030Z
UID:26351-1628614800-1628618400@radarpag.com.br
SUMMARY:Banking Innovation Forum 2021
DESCRIPTION:
URL:https://radarpag.com.br/evento/banking-innovation-forum-2021/
LOCATION:Online\, Brazil
ATTACH;FMTTYPE=image/jpeg:https://radarpag.com.br/wp-content/uploads/2021/07/idwall_100821.jpg
END:VEVENT
BEGIN:VEVENT
DTSTART;TZID=America/Sao_Paulo:20210811T113000
DTEND;TZID=America/Sao_Paulo:20210811T123000
DTSTAMP:20260424T204046
CREATED:20210809T153204Z
LAST-MODIFIED:20210809T153204Z
UID:29594-1628681400-1628685000@radarpag.com.br
SUMMARY:In.Talks | DIGITAL 11.08 - O Figital nos serviços financeiros
DESCRIPTION:
URL:https://radarpag.com.br/evento/in-talks-digital-11-08-o-figital-nos-servicos-financeiros/
LOCATION:Online\, Brazil
ATTACH;FMTTYPE=image/jpeg:https://radarpag.com.br/wp-content/uploads/2021/08/intalks_110821.jpg
END:VEVENT
BEGIN:VEVENT
DTSTART;TZID=America/Sao_Paulo:20210812T110000
DTEND;TZID=America/Sao_Paulo:20210812T120000
DTSTAMP:20260424T204046
CREATED:20210802T194741Z
LAST-MODIFIED:20210802T194741Z
UID:28545-1628766000-1628769600@radarpag.com.br
SUMMARY:Building a Better Digital Bank - Brazil | Digital Banking Thinkathon
DESCRIPTION:
URL:https://radarpag.com.br/evento/building-a-better-digital-bank-brazil-digital-banking-thinkathon/
LOCATION:Online\, Brazil
ATTACH;FMTTYPE=image/jpeg:https://radarpag.com.br/wp-content/uploads/2021/08/connect-global-group_120821.jpg
END:VEVENT
BEGIN:VEVENT
DTSTART;TZID=America/Sao_Paulo:20210812T160000
DTEND;TZID=America/Sao_Paulo:20210812T170000
DTSTAMP:20260424T204046
CREATED:20210802T194747Z
LAST-MODIFIED:20210802T194747Z
UID:28547-1628784000-1628787600@radarpag.com.br
SUMMARY:OpenFinance: A Revolução do Mercado Financeiro
DESCRIPTION:
URL:https://radarpag.com.br/evento/openfinance-a-revolucao-do-mercado-financeiro/
LOCATION:Online\, Brazil
ATTACH;FMTTYPE=image/jpeg:https://radarpag.com.br/wp-content/uploads/2021/08/qintess_120821.jpg
END:VEVENT
BEGIN:VEVENT
DTSTART;TZID=America/Sao_Paulo:20210819T170000
DTEND;TZID=America/Sao_Paulo:20210819T210000
DTSTAMP:20260424T204046
CREATED:20210802T195236Z
LAST-MODIFIED:20210802T195236Z
UID:28563-1629392400-1629406800@radarpag.com.br
SUMMARY:Cielo Digi Day: Pagamentos no WhatsApp
DESCRIPTION:
URL:https://radarpag.com.br/evento/cielo-digi-day-pagamentos-no-whatsapp/
LOCATION:Online\, Brazil
ATTACH;FMTTYPE=image/jpeg:https://radarpag.com.br/wp-content/uploads/2021/08/cielo_190821.jpg
END:VEVENT
BEGIN:VEVENT
DTSTART;TZID=America/Sao_Paulo:20210824T090000
DTEND;TZID=America/Sao_Paulo:20210826T200000
DTSTAMP:20260424T204046
CREATED:20210628T152309Z
LAST-MODIFIED:20210628T152309Z
UID:22993-1629795600-1630008000@radarpag.com.br
SUMMARY:Fin & Pay Latam Digital Week 2021
DESCRIPTION:
URL:https://radarpag.com.br/evento/fin-pay-latam-digital-week-2021/
LOCATION:Online\, Brazil
ATTACH;FMTTYPE=image/jpeg:https://radarpag.com.br/wp-content/uploads/2021/06/cms_240821.jpg
END:VEVENT
BEGIN:VEVENT
DTSTART;TZID=America/Sao_Paulo:20210824T093000
DTEND;TZID=America/Sao_Paulo:20210824T103000
DTSTAMP:20260424T204046
CREATED:20210816T174004Z
LAST-MODIFIED:20210816T174004Z
UID:30688-1629797400-1629801000@radarpag.com.br
SUMMARY:Divulgação da pesquisa "A EXPERIÊNCIA DOS CLIENTES DOS PRINCIPAIS BANCOS"
DESCRIPTION:
URL:https://radarpag.com.br/evento/divulgacao-da-pesquisa-a-experiencia-dos-clientes-dos-principais-bancos/
LOCATION:Online\, Brazil
ATTACH;FMTTYPE=image/jpeg:https://radarpag.com.br/wp-content/uploads/2021/08/cantarino-brasileiro_240821.jpg
END:VEVENT
BEGIN:VEVENT
DTSTART;TZID=America/Sao_Paulo:20210824T103000
DTEND;TZID=America/Sao_Paulo:20210824T113000
DTSTAMP:20260424T204046
CREATED:20210809T153159Z
LAST-MODIFIED:20210809T153159Z
UID:29593-1629801000-1629804600@radarpag.com.br
SUMMARY:Soluções para Contas Digitais: PIX\, SPB\, Sinacor\, Open Banking
DESCRIPTION:
URL:https://radarpag.com.br/evento/solucoes-para-contas-digitais-pix-spb-sinacor-open-banking/
LOCATION:Online\, Brazil
ATTACH;FMTTYPE=image/jpeg:https://radarpag.com.br/wp-content/uploads/2021/08/cm_software_240821.jpg
END:VEVENT
BEGIN:VEVENT
DTSTART;TZID=America/Sao_Paulo:20210826T140000
DTEND;TZID=America/Sao_Paulo:20210826T150000
DTSTAMP:20260424T204046
CREATED:20210802T194738Z
LAST-MODIFIED:20210802T194738Z
UID:28544-1629986400-1629990000@radarpag.com.br
SUMMARY:Do Open banking ao Open Finance - Quais serão os novos desafios?
DESCRIPTION:
URL:https://radarpag.com.br/evento/do-open-banking-ao-open-finance-quais-serao-os-novos-desafios/
LOCATION:Online\, Brazil
ATTACH;FMTTYPE=image/jpeg:https://radarpag.com.br/wp-content/uploads/2021/08/sopra-banking-software_260821.jpg
END:VEVENT
BEGIN:VEVENT
DTSTART;TZID=America/Sao_Paulo:20210826T150000
DTEND;TZID=America/Sao_Paulo:20210826T160000
DTSTAMP:20260424T204046
CREATED:20210816T173923Z
LAST-MODIFIED:20210816T173923Z
UID:30687-1629990000-1629993600@radarpag.com.br
SUMMARY:TIVIT & Partners: Open Banking e Ameaças Cibernéticas
DESCRIPTION:
URL:https://radarpag.com.br/evento/tivit-partners-open-banking-e-ameacas-ciberneticas/
LOCATION:Online\, Brazil
ATTACH;FMTTYPE=image/jpeg:https://radarpag.com.br/wp-content/uploads/2021/08/tivit_260821.jpg
END:VEVENT
END:VCALENDAR