BEGIN:VCALENDAR
VERSION:2.0
PRODID:-//Radarpag - ECPv5.2.1.1//NONSGML v1.0//EN
CALSCALE:GREGORIAN
METHOD:PUBLISH
X-WR-CALNAME:Radarpag
X-ORIGINAL-URL:https://radarpag.com.br
X-WR-CALDESC:Eventos para Radarpag
BEGIN:VTIMEZONE
TZID:America/Sao_Paulo
BEGIN:STANDARD
TZOFFSETFROM:-0300
TZOFFSETTO:-0300
TZNAME:-03
DTSTART:20210101T000000
END:STANDARD
END:VTIMEZONE
BEGIN:VEVENT
DTSTART;TZID=America/Sao_Paulo:20210909T170000
DTEND;TZID=America/Sao_Paulo:20210909T180000
DTSTAMP:20260424T190208
CREATED:20210906T140129Z
LAST-MODIFIED:20210906T140129Z
UID:34087-1631206800-1631210400@radarpag.com.br
SUMMARY:Webinar | Fase 3: open banking e meios de pagamento
DESCRIPTION:
URL:https://radarpag.com.br/evento/webinar-fase-3-open-banking-e-meios-de-pagamento/
LOCATION:Online\, Brazil
ATTACH;FMTTYPE=image/jpeg:https://radarpag.com.br/wp-content/uploads/2021/09/teros_090921.jpg
END:VEVENT
BEGIN:VEVENT
DTSTART;TZID=America/Sao_Paulo:20210909T190000
DTEND;TZID=America/Sao_Paulo:20210909T200000
DTSTAMP:20260424T190208
CREATED:20210906T135829Z
LAST-MODIFIED:20210906T135829Z
UID:34084-1631214000-1631217600@radarpag.com.br
SUMMARY:Live: Mulheres em Investimentos
DESCRIPTION:
URL:https://radarpag.com.br/evento/live-mulheres-em-investimentos/
LOCATION:Online\, Brazil
ATTACH;FMTTYPE=image/jpeg:https://radarpag.com.br/wp-content/uploads/2021/09/itau-unibanco_090921.jpg
END:VEVENT
BEGIN:VEVENT
DTSTART;TZID=America/Sao_Paulo:20210909T190000
DTEND;TZID=America/Sao_Paulo:20210909T200000
DTSTAMP:20260424T190208
CREATED:20210906T135835Z
LAST-MODIFIED:20210906T135835Z
UID:34085-1631214000-1631217600@radarpag.com.br
SUMMARY:Pix e Open Banking: Projetos desafiadores de novos produtos
DESCRIPTION:
URL:https://radarpag.com.br/evento/pix-e-open-banking-projetos-desafiadores-de-novos-produtos/
LOCATION:Online\, Brazil
ATTACH;FMTTYPE=image/jpeg:https://radarpag.com.br/wp-content/uploads/2021/09/euax-consulting_090921.jpg
END:VEVENT
BEGIN:VEVENT
DTSTART;TZID=America/Sao_Paulo:20210914T120000
DTEND;TZID=America/Sao_Paulo:20210914T210000
DTSTAMP:20260424T190208
CREATED:20210712T221709Z
LAST-MODIFIED:20210712T221709Z
UID:25226-1631620800-1631653200@radarpag.com.br
SUMMARY:B2B Credit Forum 2021
DESCRIPTION:
URL:https://radarpag.com.br/evento/b2b-credit-forum-2021/
LOCATION:Online\, Brazil
ATTACH;FMTTYPE=image/jpeg:https://radarpag.com.br/wp-content/uploads/2021/07/cms_140921.jpg
END:VEVENT
BEGIN:VEVENT
DTSTART;TZID=America/Sao_Paulo:20210915T160000
DTEND;TZID=America/Sao_Paulo:20210917T190000
DTSTAMP:20260424T190208
CREATED:20210906T134005Z
LAST-MODIFIED:20210906T134005Z
UID:34082-1631721600-1631905200@radarpag.com.br
SUMMARY:15º CMEP - Congresso de meios eletrônicos de pagamento
DESCRIPTION:
URL:https://radarpag.com.br/evento/15o-cmep-congresso-de-meios-eletronicos-de-pagamento/
LOCATION:Online\, Brazil
CATEGORIES:Destaques
END:VEVENT
BEGIN:VEVENT
DTSTART;TZID=America/Sao_Paulo:20210929T160000
DTEND;TZID=America/Sao_Paulo:20210929T200000
DTSTAMP:20260424T190208
CREATED:20210906T140125Z
LAST-MODIFIED:20210906T140125Z
UID:34086-1632931200-1632945600@radarpag.com.br
SUMMARY:Bankly Day II
DESCRIPTION:
URL:https://radarpag.com.br/evento/bankly-day-ii/
LOCATION:Online\, Brazil
ATTACH;FMTTYPE=image/jpeg:https://radarpag.com.br/wp-content/uploads/2021/09/bankly_290921.jpg
END:VEVENT
BEGIN:VEVENT
DTSTART;TZID=America/Sao_Paulo:20210930T190000
DTEND;TZID=America/Sao_Paulo:20210930T200000
DTSTAMP:20260424T190208
CREATED:20210906T140221Z
LAST-MODIFIED:20210906T140221Z
UID:34088-1633028400-1633032000@radarpag.com.br
SUMMARY:A evolução do sistema financeiro nacional e suas oportunidades
DESCRIPTION:
URL:https://radarpag.com.br/evento/a-evolucao-do-sistema-financeiro-nacional-e-suas-oportunidades/
LOCATION:Online\, Brazil
ATTACH;FMTTYPE=image/jpeg:https://radarpag.com.br/wp-content/uploads/2021/09/deep-legal-analytics_300921.jpg
END:VEVENT
END:VCALENDAR