BEGIN:VCALENDAR
VERSION:2.0
PRODID:-//Radarpag - ECPv5.2.1.1//NONSGML v1.0//EN
CALSCALE:GREGORIAN
METHOD:PUBLISH
X-WR-CALNAME:Radarpag
X-ORIGINAL-URL:https://radarpag.com.br
X-WR-CALDESC:Eventos para Radarpag
BEGIN:VTIMEZONE
TZID:America/Sao_Paulo
BEGIN:STANDARD
TZOFFSETFROM:-0300
TZOFFSETTO:-0300
TZNAME:-03
DTSTART:20210101T000000
END:STANDARD
END:VTIMEZONE
BEGIN:VEVENT
DTSTART;TZID=America/Sao_Paulo:20211103T170000
DTEND;TZID=America/Sao_Paulo:20211103T180000
DTSTAMP:20260424T155459
CREATED:20211103T134004Z
LAST-MODIFIED:20211103T134004Z
UID:42194-1635958800-1635962400@radarpag.com.br
SUMMARY:O futuro dos bancos no Brasil
DESCRIPTION:
URL:https://radarpag.com.br/evento/o-futuro-dos-bancos-no-brasil/
LOCATION:Online\, Brazil
ATTACH;FMTTYPE=image/jpeg:https://radarpag.com.br/wp-content/uploads/2021/11/adobe-experience-coud_101121.jpg
END:VEVENT
BEGIN:VEVENT
DTSTART;TZID=America/Sao_Paulo:20211104T173000
DTEND;TZID=America/Sao_Paulo:20211104T203000
DTSTAMP:20260424T155459
CREATED:20211103T133018Z
LAST-MODIFIED:20211103T133018Z
UID:42190-1636047000-1636057800@radarpag.com.br
SUMMARY:Fintech Summit 2021
DESCRIPTION:
URL:https://radarpag.com.br/evento/fintech-summit-2021/
LOCATION:Online\, Brazil
ATTACH;FMTTYPE=image/jpeg:https://radarpag.com.br/wp-content/uploads/2021/11/distrito_041121.jpg
END:VEVENT
BEGIN:VEVENT
DTSTART;TZID=America/Sao_Paulo:20211104T190000
DTEND;TZID=America/Sao_Paulo:20211104T200000
DTSTAMP:20260424T155459
CREATED:20211103T134008Z
LAST-MODIFIED:20211103T134008Z
UID:42196-1636052400-1636056000@radarpag.com.br
SUMMARY:PIX\, é seguro mesmo?
DESCRIPTION:
URL:https://radarpag.com.br/evento/pix-e-seguro-mesmo/
LOCATION:Online\, Brazil
ATTACH;FMTTYPE=image/jpeg:https://radarpag.com.br/wp-content/uploads/2021/11/russell-bedford-brasil_041121.jpg
END:VEVENT
BEGIN:VEVENT
DTSTART;TZID=America/Sao_Paulo:20211115T060000
DTEND;TZID=America/Sao_Paulo:20211115T070000
DTSTAMP:20260424T155459
CREATED:20211103T134007Z
LAST-MODIFIED:20211103T134007Z
UID:42195-1636956000-1636959600@radarpag.com.br
SUMMARY:Experian Innovation Week
DESCRIPTION:
URL:https://radarpag.com.br/evento/experian-innovation-week/
LOCATION:Online\, Brazil
ATTACH;FMTTYPE=image/jpeg:https://radarpag.com.br/wp-content/uploads/2021/11/experian_151121.jpg
END:VEVENT
BEGIN:VEVENT
DTSTART;TZID=America/Sao_Paulo:20211118T180000
DTEND;TZID=America/Sao_Paulo:20211118T190000
DTSTAMP:20260424T155459
CREATED:20211118T123500Z
LAST-MODIFIED:20211118T123500Z
UID:44768-1637258400-1637262000@radarpag.com.br
SUMMARY:Tendências para o mercado de Subadquirência
DESCRIPTION:
URL:https://radarpag.com.br/evento/tendencias-para-o-mercado-de-subadquirencia/
LOCATION:Online\, Brazil
ATTACH;FMTTYPE=image/jpeg:https://radarpag.com.br/wp-content/uploads/2021/11/ultratalks_181121.jpg
END:VEVENT
END:VCALENDAR