BEGIN:VCALENDAR
VERSION:2.0
PRODID:-//Radarpag - ECPv5.2.1.1//NONSGML v1.0//EN
CALSCALE:GREGORIAN
METHOD:PUBLISH
X-WR-CALNAME:Radarpag
X-ORIGINAL-URL:https://radarpag.com.br
X-WR-CALDESC:Eventos para Radarpag
BEGIN:VTIMEZONE
TZID:America/Sao_Paulo
BEGIN:STANDARD
TZOFFSETFROM:-0300
TZOFFSETTO:-0300
TZNAME:-03
DTSTART:20220101T000000
END:STANDARD
END:VTIMEZONE
BEGIN:VEVENT
DTSTART;TZID=America/Sao_Paulo:20220309T180000
DTEND;TZID=America/Sao_Paulo:20220309T180000
DTSTAMP:20260424T092039
CREATED:20220304T201649Z
LAST-MODIFIED:20220304T201649Z
UID:56311-1646848800-1646848800@radarpag.com.br
SUMMARY:Saiba mais sobre os desafios das credenciadoras e subcredenciadoras
DESCRIPTION:
URL:https://radarpag.com.br/evento/saiba-mais-sobre-os-desafios-das-credenciadoras-e-subcredenciadoras/
LOCATION:Online\, Brazil
ATTACH;FMTTYPE=image/jpeg:https://radarpag.com.br/wp-content/uploads/2022/03/ultratalks_090322.jpg
END:VEVENT
BEGIN:VEVENT
DTSTART;TZID=America/Sao_Paulo:20220314T200000
DTEND;TZID=America/Sao_Paulo:20220318T233000
DTSTAMP:20260424T092039
CREATED:20220311T191753Z
LAST-MODIFIED:20220311T191753Z
UID:57139-1647288000-1647646200@radarpag.com.br
SUMMARY:Masterclass - O Mapa de Risco do Pix
DESCRIPTION:
URL:https://radarpag.com.br/evento/masterclass-o-mapa-de-risco-do-pix/
LOCATION:Online\, Brazil
ATTACH;FMTTYPE=image/jpeg:https://radarpag.com.br/wp-content/uploads/2022/03/Risk-Leadership-Academy_140322.jpg
END:VEVENT
BEGIN:VEVENT
DTSTART;TZID=America/Sao_Paulo:20220315T030000
DTEND;TZID=America/Sao_Paulo:20220315T053000
DTSTAMP:20260424T092039
CREATED:20220312T192825Z
LAST-MODIFIED:20220312T192825Z
UID:57272-1647313200-1647322200@radarpag.com.br
SUMMARY:Women in Finance Summit UAE
DESCRIPTION:
URL:https://radarpag.com.br/evento/women-in-finance-summit-uae/
LOCATION:Online\, Brazil
ATTACH;FMTTYPE=image/png:https://radarpag.com.br/wp-content/uploads/2022/03/Women-in-Finance-Summit_150322.png
END:VEVENT
BEGIN:VEVENT
DTSTART;TZID=America/Sao_Paulo:20220315T150000
DTEND;TZID=America/Sao_Paulo:20220315T150000
DTSTAMP:20260424T092039
CREATED:20220311T190857Z
LAST-MODIFIED:20220311T190857Z
UID:57131-1647356400-1647356400@radarpag.com.br
SUMMARY:Global Payments Report 2022: descubra a próxima fronteira dos pagamentos
DESCRIPTION:
URL:https://radarpag.com.br/evento/global-payments-report-2022-descubra-a-proxima-fronteira-dos-pagamentos/
LOCATION:Online\, Brazil
ATTACH;FMTTYPE=image/jpeg:https://radarpag.com.br/wp-content/uploads/2022/03/e-commerce-brasil_150322.jpg
END:VEVENT
BEGIN:VEVENT
DTSTART;TZID=America/Sao_Paulo:20220316T060000
DTEND;TZID=America/Sao_Paulo:20220316T063000
DTSTAMP:20260424T092039
CREATED:20220312T192835Z
LAST-MODIFIED:20220312T192835Z
UID:57274-1647410400-1647412200@radarpag.com.br
SUMMARY:OBE Asia Public Webinar: The Key Security Standards in Open Banking
DESCRIPTION:
URL:https://radarpag.com.br/evento/obe-asia-public-webinar-the-key-security-standards-in-open-banking/
LOCATION:Online\, Brazil
ATTACH;FMTTYPE=image/png:https://radarpag.com.br/wp-content/uploads/2022/03/Open-Banking-Exchange_160322.png
END:VEVENT
BEGIN:VEVENT
DTSTART;TZID=America/Sao_Paulo:20220316T070000
DTEND;TZID=America/Sao_Paulo:20220316T093000
DTSTAMP:20260424T092039
CREATED:20220312T192830Z
LAST-MODIFIED:20220312T192830Z
UID:57273-1647414000-1647423000@radarpag.com.br
SUMMARY:MENA Open Finance Innovation Forum
DESCRIPTION:
URL:https://radarpag.com.br/evento/mena-open-finance-innovation-forum/
LOCATION:Online\, Brazil
ATTACH;FMTTYPE=image/png:https://radarpag.com.br/wp-content/uploads/2022/03/AQMEN365-by-Informa-Connect_160322.png
END:VEVENT
BEGIN:VEVENT
DTSTART;TZID=America/Sao_Paulo:20220316T140000
DTEND;TZID=America/Sao_Paulo:20220316T140000
DTSTAMP:20260424T092039
CREATED:20220313T191652Z
LAST-MODIFIED:20220313T191652Z
UID:57342-1647439200-1647439200@radarpag.com.br
SUMMARY:Open Garantias: um novo marco no incentivo ao crédito
DESCRIPTION:
URL:https://radarpag.com.br/evento/open-garantias-um-novo-marco-no-incentivo-ao-credito/
LOCATION:Online\, Brazil
ATTACH;FMTTYPE=image/jpeg:https://radarpag.com.br/wp-content/uploads/2022/03/Sopra-Banking-Software_160322.jpg
END:VEVENT
BEGIN:VEVENT
DTSTART;TZID=America/Sao_Paulo:20220316T190000
DTEND;TZID=America/Sao_Paulo:20220316T190000
DTSTAMP:20260424T092039
CREATED:20220313T191653Z
LAST-MODIFIED:20220313T191653Z
UID:57343-1647457200-1647457200@radarpag.com.br
SUMMARY:Eixo Ventures: oportunidades para startups Fintech\, Edtech e Mobilidade
DESCRIPTION:
URL:https://radarpag.com.br/evento/eixo-ventures-oportunidades-para-startups-fintech-edtech-e-mobilidade/
LOCATION:Online\, Brazil
ATTACH;FMTTYPE=image/jpeg:https://radarpag.com.br/wp-content/uploads/2022/03/FCJ-Venture-Builder_160322.jpg
END:VEVENT
BEGIN:VEVENT
DTSTART;TZID=America/Sao_Paulo:20220316T210000
DTEND;TZID=America/Sao_Paulo:20220316T220000
DTSTAMP:20260424T092039
CREATED:20220314T183441Z
LAST-MODIFIED:20220314T183441Z
UID:57416-1647464400-1647468000@radarpag.com.br
SUMMARY:Fintech Cafe: Co-Founder & CEO of Veem
DESCRIPTION:
URL:https://radarpag.com.br/evento/fintech-cafe-co-founder-ceo-of-veem/
LOCATION:Online\, Brazil
ATTACH;FMTTYPE=image/jpeg:https://radarpag.com.br/wp-content/uploads/2022/03/Fintech-Cafe_160322.jpg
END:VEVENT
BEGIN:VEVENT
DTSTART;TZID=America/Sao_Paulo:20220317T130000
DTEND;TZID=America/Sao_Paulo:20220317T140000
DTSTAMP:20260424T092039
CREATED:20220311T191759Z
LAST-MODIFIED:20220311T191759Z
UID:57141-1647522000-1647525600@radarpag.com.br
SUMMARY:OBE March Campfire - Digital Identity in the World of Open Banking
DESCRIPTION:
URL:https://radarpag.com.br/evento/obe-march-campfire-digital-identity-in-the-world-of-open-banking/
LOCATION:Online\, Brazil
ATTACH;FMTTYPE=image/png:https://radarpag.com.br/wp-content/uploads/2022/03/Open-Banking-Excellence_170322.png
END:VEVENT
BEGIN:VEVENT
DTSTART;TZID=America/Sao_Paulo:20220317T160000
DTEND;TZID=America/Sao_Paulo:20220317T170000
DTSTAMP:20260424T092039
CREATED:20220313T191656Z
LAST-MODIFIED:20220313T191656Z
UID:57344-1647532800-1647536400@radarpag.com.br
SUMMARY:Como a inovação vem combatendo fraudes nos setores financeiro e de crédito
DESCRIPTION:
URL:https://radarpag.com.br/evento/como-a-inovacao-vem-combatendo-fraudes-nos-setores-financeiro-e-de-credito/
LOCATION:Online\, Brazil
ATTACH;FMTTYPE=image/jpeg:https://radarpag.com.br/wp-content/uploads/2022/03/Neurotech_170322.jpg
END:VEVENT
BEGIN:VEVENT
DTSTART;TZID=America/Sao_Paulo:20220322T120000
DTEND;TZID=America/Sao_Paulo:20220322T140000
DTSTAMP:20260424T092039
CREATED:20220314T183445Z
LAST-MODIFIED:20220314T183445Z
UID:57418-1647950400-1647957600@radarpag.com.br
SUMMARY:Fintech Minds MEETUP - #SMARTLENDING
DESCRIPTION:
URL:https://radarpag.com.br/evento/fintech-minds-meetup-smartlending/
LOCATION:Online\, Brazil
ATTACH;FMTTYPE=image/png:https://radarpag.com.br/wp-content/uploads/2022/03/Romanian-Fintech-Association_220322.png
END:VEVENT
BEGIN:VEVENT
DTSTART;TZID=America/Sao_Paulo:20220322T150000
DTEND;TZID=America/Sao_Paulo:20220322T150000
DTSTAMP:20260424T092039
CREATED:20220311T190900Z
LAST-MODIFIED:20220311T190900Z
UID:57132-1647961200-1647961200@radarpag.com.br
SUMMARY:Formas de pagamento para vendas online com ou sem loja virtual
DESCRIPTION:
URL:https://radarpag.com.br/evento/formas-de-pagamento-para-vendas-online-com-ou-sem-loja-virtual/
LOCATION:Online\, Brazil
ATTACH;FMTTYPE=image/jpeg:https://radarpag.com.br/wp-content/uploads/2022/03/e-commerce-brasil_220322.jpg
END:VEVENT
BEGIN:VEVENT
DTSTART;TZID=America/Sao_Paulo:20220324T090000
DTEND;TZID=America/Sao_Paulo:20220324T110000
DTSTAMP:20260424T092039
CREATED:20220312T191546Z
LAST-MODIFIED:20220312T191546Z
UID:57270-1648112400-1648119600@radarpag.com.br
SUMMARY:Webinar Superendividamento
DESCRIPTION:
URL:https://radarpag.com.br/evento/webinar-superendividamento/
LOCATION:Online\, Brazil
END:VEVENT
BEGIN:VEVENT
DTSTART;TZID=America/Sao_Paulo:20220324T130000
DTEND;TZID=America/Sao_Paulo:20220324T140000
DTSTAMP:20260424T092039
CREATED:20220315T204039Z
LAST-MODIFIED:20220315T204039Z
UID:57552-1648126800-1648130400@radarpag.com.br
SUMMARY:Understanding OpenAPI for Fintech
DESCRIPTION:
URL:https://radarpag.com.br/evento/understanding-openapi-for-fintech/
LOCATION:Online\, Brazil
ATTACH;FMTTYPE=image/png:https://radarpag.com.br/wp-content/uploads/2022/03/SmartBear_240322.png
END:VEVENT
BEGIN:VEVENT
DTSTART;TZID=America/Sao_Paulo:20220324T160000
DTEND;TZID=America/Sao_Paulo:20220324T200000
DTSTAMP:20260424T092039
CREATED:20220311T190855Z
LAST-MODIFIED:20220311T190855Z
UID:57130-1648137600-1648152000@radarpag.com.br
SUMMARY:Innovation Lab 2022
DESCRIPTION:
URL:https://radarpag.com.br/evento/innovation-lab-2022/
LOCATION:Online\, Brazil
ATTACH;FMTTYPE=image/png:https://radarpag.com.br/wp-content/uploads/2022/03/distrito_240322.png
END:VEVENT
BEGIN:VEVENT
DTSTART;TZID=America/Sao_Paulo:20220328T130000
DTEND;TZID=America/Sao_Paulo:20220328T143000
DTSTAMP:20260424T092039
CREATED:20220311T191755Z
LAST-MODIFIED:20220311T191755Z
UID:57140-1648472400-1648477800@radarpag.com.br
SUMMARY:Finance Circle - Die neusten Entwicklungen im Open Banking
DESCRIPTION:
URL:https://radarpag.com.br/evento/finance-circle-die-neusten-entwicklungen-im-open-banking/
LOCATION:Online\, Brazil
ATTACH;FMTTYPE=image/png:https://radarpag.com.br/wp-content/uploads/2022/03/ZHAW-Banking_280322.png
END:VEVENT
BEGIN:VEVENT
DTSTART;TZID=America/Sao_Paulo:20220331T090000
DTEND;TZID=America/Sao_Paulo:20220331T100000
DTSTAMP:20260424T092039
CREATED:20220325T160332Z
LAST-MODIFIED:20220325T160332Z
UID:58818-1648717200-1648720800@radarpag.com.br
SUMMARY:How to Drive Customer Trust in FinTech
DESCRIPTION:
URL:https://radarpag.com.br/evento/how-to-drive-customer-trust-in-fintech/
LOCATION:Online\, Brazil
ATTACH;FMTTYPE=image/png:https://radarpag.com.br/wp-content/uploads/2022/03/Copy-House_310322.png
END:VEVENT
BEGIN:VEVENT
DTSTART;TZID=America/Sao_Paulo:20220331T100000
DTEND;TZID=America/Sao_Paulo:20220331T113000
DTSTAMP:20260424T092039
CREATED:20220325T160334Z
LAST-MODIFIED:20220325T160334Z
UID:58819-1648720800-1648726200@radarpag.com.br
SUMMARY:Fintech Forward 2022
DESCRIPTION:
URL:https://radarpag.com.br/evento/fintech-forward-2022/
LOCATION:Online\, Brazil
ATTACH;FMTTYPE=image/png:https://radarpag.com.br/wp-content/uploads/2022/03/Invest-Lithuania_310322.png
END:VEVENT
END:VCALENDAR