BEGIN:VCALENDAR
VERSION:2.0
PRODID:-//Radarpag - ECPv5.2.1.1//NONSGML v1.0//EN
CALSCALE:GREGORIAN
METHOD:PUBLISH
X-WR-CALNAME:Radarpag
X-ORIGINAL-URL:https://radarpag.com.br
X-WR-CALDESC:Eventos para Radarpag
BEGIN:VTIMEZONE
TZID:America/Sao_Paulo
BEGIN:STANDARD
TZOFFSETFROM:-0300
TZOFFSETTO:-0300
TZNAME:-03
DTSTART:20220101T000000
END:STANDARD
END:VTIMEZONE
BEGIN:VEVENT
DTSTART;TZID=America/Sao_Paulo:20220328T130000
DTEND;TZID=America/Sao_Paulo:20220328T143000
DTSTAMP:20260424T074546
CREATED:20220311T191755Z
LAST-MODIFIED:20220311T191755Z
UID:57140-1648472400-1648477800@radarpag.com.br
SUMMARY:Finance Circle - Die neusten Entwicklungen im Open Banking
DESCRIPTION:
URL:https://radarpag.com.br/evento/finance-circle-die-neusten-entwicklungen-im-open-banking/
LOCATION:Online\, Brazil
ATTACH;FMTTYPE=image/png:https://radarpag.com.br/wp-content/uploads/2022/03/ZHAW-Banking_280322.png
END:VEVENT
BEGIN:VEVENT
DTSTART;TZID=America/Sao_Paulo:20220331T090000
DTEND;TZID=America/Sao_Paulo:20220331T100000
DTSTAMP:20260424T074546
CREATED:20220325T160332Z
LAST-MODIFIED:20220325T160332Z
UID:58818-1648717200-1648720800@radarpag.com.br
SUMMARY:How to Drive Customer Trust in FinTech
DESCRIPTION:
URL:https://radarpag.com.br/evento/how-to-drive-customer-trust-in-fintech/
LOCATION:Online\, Brazil
ATTACH;FMTTYPE=image/png:https://radarpag.com.br/wp-content/uploads/2022/03/Copy-House_310322.png
END:VEVENT
BEGIN:VEVENT
DTSTART;TZID=America/Sao_Paulo:20220331T100000
DTEND;TZID=America/Sao_Paulo:20220331T113000
DTSTAMP:20260424T074546
CREATED:20220325T160334Z
LAST-MODIFIED:20220325T160334Z
UID:58819-1648720800-1648726200@radarpag.com.br
SUMMARY:Fintech Forward 2022
DESCRIPTION:
URL:https://radarpag.com.br/evento/fintech-forward-2022/
LOCATION:Online\, Brazil
ATTACH;FMTTYPE=image/png:https://radarpag.com.br/wp-content/uploads/2022/03/Invest-Lithuania_310322.png
END:VEVENT
BEGIN:VEVENT
DTSTART;TZID=America/Sao_Paulo:20220405T100000
DTEND;TZID=America/Sao_Paulo:20220407T180000
DTSTAMP:20260424T074546
CREATED:20220325T155212Z
LAST-MODIFIED:20220325T155212Z
UID:58813-1649152800-1649354400@radarpag.com.br
SUMMARY:Autocom 2022
DESCRIPTION:
URL:https://radarpag.com.br/evento/autocom-2022/
LOCATION:Expo Center Norte – Pavilhão Amarelo\, Av. Otto Baumgart\, 1000 - Vila Guilherme\, São Paulo\, SP\, 02049-000\, Brazil
ATTACH;FMTTYPE=image/jpeg:https://radarpag.com.br/wp-content/uploads/2022/03/Autocom_050422.jpg
END:VEVENT
BEGIN:VEVENT
DTSTART;TZID=America/Sao_Paulo:20220406T120000
DTEND;TZID=America/Sao_Paulo:20220406T130000
DTSTAMP:20260424T074546
CREATED:20220325T160336Z
LAST-MODIFIED:20220325T160336Z
UID:58820-1649246400-1649250000@radarpag.com.br
SUMMARY:Las ventajas competitivas de los neobancos
DESCRIPTION:
URL:https://radarpag.com.br/evento/las-ventajas-competitivas-de-los-neobancos/
LOCATION:Online\, Brazil
ATTACH;FMTTYPE=image/png:https://radarpag.com.br/wp-content/uploads/2022/03/ditrendia_060422.png
END:VEVENT
BEGIN:VEVENT
DTSTART;TZID=America/Sao_Paulo:20220406T150000
DTEND;TZID=America/Sao_Paulo:20220406T150000
DTSTAMP:20260424T074546
CREATED:20220325T154451Z
LAST-MODIFIED:20220325T154451Z
UID:58805-1649257200-1649257200@radarpag.com.br
SUMMARY:Pagamentos digitais: conheça as boas práticas e tire todas as suas dúvidas
DESCRIPTION:
URL:https://radarpag.com.br/evento/pagamentos-digitais-conheca-as-boas-praticas-e-tire-todas-as-suas-duvidas/
LOCATION:Online\, Brazil
ATTACH;FMTTYPE=image/jpeg:https://radarpag.com.br/wp-content/uploads/2022/03/E-Commerce-Brasil_060422.jpg
END:VEVENT
BEGIN:VEVENT
DTSTART;TZID=America/Sao_Paulo:20220407T070000
DTEND;TZID=America/Sao_Paulo:20220407T080000
DTSTAMP:20260424T074546
CREATED:20220329T151703Z
LAST-MODIFIED:20220329T151703Z
UID:59117-1649314800-1649318400@radarpag.com.br
SUMMARY:Open Banking Essentials with payabl. and Trustly
DESCRIPTION:
URL:https://radarpag.com.br/evento/open-banking-essentials-with-payabl-and-trustly/
LOCATION:Online\, Brazil
ATTACH;FMTTYPE=image/png:https://radarpag.com.br/wp-content/uploads/2022/03/Trustly_070422.png
END:VEVENT
BEGIN:VEVENT
DTSTART;TZID=America/Sao_Paulo:20220407T100000
DTEND;TZID=America/Sao_Paulo:20220407T110000
DTSTAMP:20260424T074546
CREATED:20220329T151707Z
LAST-MODIFIED:20220329T151707Z
UID:59118-1649325600-1649329200@radarpag.com.br
SUMMARY:BIAN + SmartBear: Enabling Open Banking Adoption and FinTech Innovation
DESCRIPTION:
URL:https://radarpag.com.br/evento/bian-smartbear-enabling-open-banking-adoption-and-fintech-innovation/
LOCATION:Online\, Brazil
ATTACH;FMTTYPE=image/png:https://radarpag.com.br/wp-content/uploads/2022/03/SmartBear_070422.png
END:VEVENT
BEGIN:VEVENT
DTSTART;TZID=America/Sao_Paulo:20220412T150000
DTEND;TZID=America/Sao_Paulo:20220412T150000
DTSTAMP:20260424T074546
CREATED:20220325T154453Z
LAST-MODIFIED:20220325T154453Z
UID:58806-1649775600-1649775600@radarpag.com.br
SUMMARY:Regras para minimizar as fraudes no e-commerce
DESCRIPTION:
URL:https://radarpag.com.br/evento/regras-para-minimizar-as-fraudes-no-e-commerce/
LOCATION:Online\, Brazil
ATTACH;FMTTYPE=image/jpeg:https://radarpag.com.br/wp-content/uploads/2022/03/E-Commerce-Brasil_120422.jpg
END:VEVENT
BEGIN:VEVENT
DTSTART;TZID=America/Sao_Paulo:20220412T170000
DTEND;TZID=America/Sao_Paulo:20220412T170000
DTSTAMP:20260424T074546
CREATED:20220411T160003Z
LAST-MODIFIED:20220411T160003Z
UID:60377-1649782800-1649782800@radarpag.com.br
SUMMARY:Webinário Open Banking e Onboarding Digital: uma nova oportunidade
DESCRIPTION:
URL:https://radarpag.com.br/evento/webinario-open-banking-e-onboarding-digital-uma-nova-oportunidade/
LOCATION:Online\, Brazil
ATTACH;FMTTYPE=image/jpeg:https://radarpag.com.br/wp-content/uploads/2022/04/Educa-ABERJ_120422.jpg
END:VEVENT
BEGIN:VEVENT
DTSTART;TZID=America/Sao_Paulo:20220412T180000
DTEND;TZID=America/Sao_Paulo:20220412T180000
DTSTAMP:20260424T074546
CREATED:20220325T154447Z
LAST-MODIFIED:20220325T154447Z
UID:58804-1649786400-1649786400@radarpag.com.br
SUMMARY:Aspectos regulatórios do mercado de SUBadquirentes
DESCRIPTION:
URL:https://radarpag.com.br/evento/aspectos-regulatorios-do-mercado-de-subadquirentes/
LOCATION:Online\, Brazil
ATTACH;FMTTYPE=image/jpeg:https://radarpag.com.br/wp-content/uploads/2022/03/ultratalks_120422.jpg
END:VEVENT
BEGIN:VEVENT
DTSTART;TZID=America/Sao_Paulo:20220413T180000
DTEND;TZID=America/Sao_Paulo:20220413T190000
DTSTAMP:20260424T074546
CREATED:20220329T151711Z
LAST-MODIFIED:20220329T151711Z
UID:59119-1649872800-1649876400@radarpag.com.br
SUMMARY:Democratização do Crédito e Novas Modalidades de Investimento - Cadastre-se
DESCRIPTION:
URL:https://radarpag.com.br/evento/democratizacao-do-credito-e-novas-modalidades-de-investimento-cadastre-se/
LOCATION:Online\, Brazil
ATTACH;FMTTYPE=image/jpeg:https://radarpag.com.br/wp-content/uploads/2022/03/Finnet_130422.jpg
END:VEVENT
BEGIN:VEVENT
DTSTART;TZID=America/Sao_Paulo:20220413T190000
DTEND;TZID=America/Sao_Paulo:20220413T200000
DTSTAMP:20260424T074546
CREATED:20220411T160007Z
LAST-MODIFIED:20220411T160007Z
UID:60379-1649876400-1649880000@radarpag.com.br
SUMMARY:Product Leaders Panel: The Future of FinTech
DESCRIPTION:
URL:https://radarpag.com.br/evento/product-leaders-panel-the-future-of-fintech/
LOCATION:Online\, Brazil
ATTACH;FMTTYPE=image/png:https://radarpag.com.br/wp-content/uploads/2022/04/Finder_130422.png
END:VEVENT
BEGIN:VEVENT
DTSTART;TZID=America/Sao_Paulo:20220419T090000
DTEND;TZID=America/Sao_Paulo:20220420T120000
DTSTAMP:20260424T074546
CREATED:20220411T160000Z
LAST-MODIFIED:20220411T160000Z
UID:60376-1650358800-1650456000@radarpag.com.br
SUMMARY:CX - Personalizando a experiência do cliente
DESCRIPTION:
URL:https://radarpag.com.br/evento/cx-personalizando-a-experiencia-do-cliente/
LOCATION:Online\, Brazil
ATTACH;FMTTYPE=image/jpeg:https://radarpag.com.br/wp-content/uploads/2022/04/Cantarino-Brasileiro_190422.jpg
END:VEVENT
BEGIN:VEVENT
DTSTART;TZID=America/Sao_Paulo:20220426T100000
DTEND;TZID=America/Sao_Paulo:20220428T130000
DTSTAMP:20260424T074546
CREATED:20220425T202013Z
LAST-MODIFIED:20220425T202013Z
UID:61514-1650967200-1651150800@radarpag.com.br
SUMMARY:FintechLAC3: A Consolidated Ecosystem for the Recovery (Link abajo)
DESCRIPTION:
URL:https://radarpag.com.br/evento/fintechlac3-a-consolidated-ecosystem-for-the-recovery-link-abajo/
LOCATION:Online\, Brazil
ATTACH;FMTTYPE=image/png:https://radarpag.com.br/wp-content/uploads/2022/04/FintechLAC_260422.png
END:VEVENT
BEGIN:VEVENT
DTSTART;TZID=America/Sao_Paulo:20220427T150000
DTEND;TZID=America/Sao_Paulo:20220427T150000
DTSTAMP:20260424T074546
CREATED:20220425T202008Z
LAST-MODIFIED:20220425T202008Z
UID:61511-1651071600-1651071600@radarpag.com.br
SUMMARY:O Futuro dos pagamentos online e a influência da Multicanalidade
DESCRIPTION:
URL:https://radarpag.com.br/evento/o-futuro-dos-pagamentos-online-e-a-influencia-da-multicanalidade/
LOCATION:Online\, Brazil
ATTACH;FMTTYPE=image/jpeg:https://radarpag.com.br/wp-content/uploads/2022/04/E-Commerce-Brasil_270422.jpg
END:VEVENT
BEGIN:VEVENT
DTSTART;TZID=America/Sao_Paulo:20220427T160000
DTEND;TZID=America/Sao_Paulo:20220428T190000
DTSTAMP:20260424T074546
CREATED:20220411T160005Z
LAST-MODIFIED:20220411T160005Z
UID:60378-1651075200-1651172400@radarpag.com.br
SUMMARY:Fintech Summit 2022
DESCRIPTION:
URL:https://radarpag.com.br/evento/fintech-summit-2022/
LOCATION:Online\, Brazil
ATTACH;FMTTYPE=image/png:https://radarpag.com.br/wp-content/uploads/2022/04/Distrito_270422.png
END:VEVENT
BEGIN:VEVENT
DTSTART;TZID=America/Sao_Paulo:20220427T170000
DTEND;TZID=America/Sao_Paulo:20220427T170000
DTSTAMP:20260424T074546
CREATED:20220425T202015Z
LAST-MODIFIED:20220425T202015Z
UID:61515-1651078800-1651078800@radarpag.com.br
SUMMARY:Pix: saiba como se proteger e fazer um bom uso da ferramenta!
DESCRIPTION:
URL:https://radarpag.com.br/evento/pix-saiba-como-se-proteger-e-fazer-um-bom-uso-da-ferramenta/
LOCATION:Online\, Brazil
ATTACH;FMTTYPE=image/jpeg:https://radarpag.com.br/wp-content/uploads/2022/04/FAS-ADVOGADOS_270422.jpg
END:VEVENT
END:VCALENDAR