BEGIN:VCALENDAR
VERSION:2.0
PRODID:-//Radarpag - ECPv5.2.1.1//NONSGML v1.0//EN
CALSCALE:GREGORIAN
METHOD:PUBLISH
X-WR-CALNAME:Radarpag
X-ORIGINAL-URL:https://radarpag.com.br
X-WR-CALDESC:Eventos para Radarpag
BEGIN:VTIMEZONE
TZID:America/Sao_Paulo
BEGIN:STANDARD
TZOFFSETFROM:-0300
TZOFFSETTO:-0300
TZNAME:-03
DTSTART:20220101T000000
END:STANDARD
END:VTIMEZONE
BEGIN:VEVENT
DTSTART;TZID=America/Sao_Paulo:20220509T110000
DTEND;TZID=America/Sao_Paulo:20220509T120000
DTSTAMP:20260422T042559
CREATED:20220503T213536Z
LAST-MODIFIED:20220503T213536Z
UID:62570-1652094000-1652097600@radarpag.com.br
SUMMARY:Open Banking and the changing nature of competition
DESCRIPTION:
URL:https://radarpag.com.br/evento/open-banking-and-the-changing-nature-of-competition/
LOCATION:Online\, Brazil
ATTACH;FMTTYPE=image/png:https://radarpag.com.br/wp-content/uploads/2022/05/Said-Business-School_090522.png
END:VEVENT
BEGIN:VEVENT
DTSTART;TZID=America/Sao_Paulo:20220510T220000
DTEND;TZID=America/Sao_Paulo:20220510T223000
DTSTAMP:20260422T042559
CREATED:20220425T202009Z
LAST-MODIFIED:20220425T202009Z
UID:61512-1652220000-1652221800@radarpag.com.br
SUMMARY:Open Banking in 2022: How to Unlock the Benefits
DESCRIPTION:
URL:https://radarpag.com.br/evento/open-banking-in-2022-how-to-unlock-the-benefits/
LOCATION:Online\, Brazil
ATTACH;FMTTYPE=image/png:https://radarpag.com.br/wp-content/uploads/2022/04/FST-Media_100522.png
END:VEVENT
BEGIN:VEVENT
DTSTART;TZID=America/Sao_Paulo:20220511T070000
DTEND;TZID=America/Sao_Paulo:20220511T073000
DTSTAMP:20260422T042559
CREATED:20220503T213539Z
LAST-MODIFIED:20220503T213539Z
UID:62571-1652252400-1652254200@radarpag.com.br
SUMMARY:Webinar: State of Application Security in UK Banking
DESCRIPTION:
URL:https://radarpag.com.br/evento/webinar-state-of-application-security-in-uk-banking/
LOCATION:Online\, Brazil
ATTACH;FMTTYPE=image/png:https://radarpag.com.br/wp-content/uploads/2022/05/Jscrambler_110522.png
END:VEVENT
BEGIN:VEVENT
DTSTART;TZID=America/Sao_Paulo:20220511T103000
DTEND;TZID=America/Sao_Paulo:20220511T110000
DTSTAMP:20260422T042559
CREATED:20220503T211155Z
LAST-MODIFIED:20220503T211155Z
UID:62559-1652265000-1652266800@radarpag.com.br
SUMMARY:Receba com Pix!
DESCRIPTION:
URL:https://radarpag.com.br/evento/receba-com-pix/
LOCATION:Online\, Brazil
ATTACH;FMTTYPE=image/png:https://radarpag.com.br/wp-content/uploads/2022/05/CM-Software_110522.png
END:VEVENT
BEGIN:VEVENT
DTSTART;TZID=America/Sao_Paulo:20220512T104500
DTEND;TZID=America/Sao_Paulo:20220512T104500
DTSTAMP:20260422T042559
CREATED:20220510T142844Z
LAST-MODIFIED:20220510T142844Z
UID:63260-1652352300-1652352300@radarpag.com.br
SUMMARY:The global annual DMI symposium - Keynote in conversation: Open banking and ESG
DESCRIPTION:
URL:https://radarpag.com.br/evento/the-global-annual-dmi-symposium-keynote-in-conversation-open-banking-and-esg/
LOCATION:Online\, Brazil
ATTACH;FMTTYPE=image/jpeg:https://radarpag.com.br/wp-content/uploads/2022/05/OMFIF_120522.jpg
END:VEVENT
BEGIN:VEVENT
DTSTART;TZID=America/Sao_Paulo:20220517T110000
DTEND;TZID=America/Sao_Paulo:20220519T180000
DTSTAMP:20260422T042559
CREATED:20220314T183443Z
LAST-MODIFIED:20220314T183443Z
UID:57417-1652785200-1652983200@radarpag.com.br
SUMMARY:Chile Fintech Forum 2022
DESCRIPTION:
URL:https://radarpag.com.br/evento/chile-fintech-forum-2022/
LOCATION:Online\, Brazil
ATTACH;FMTTYPE=image/png:https://radarpag.com.br/wp-content/uploads/2022/03/FinteChile_170521.png
END:VEVENT
BEGIN:VEVENT
DTSTART;TZID=America/Sao_Paulo:20220518T080000
DTEND;TZID=America/Sao_Paulo:20220518T093000
DTSTAMP:20260422T042559
CREATED:20220425T202011Z
LAST-MODIFIED:20220425T202011Z
UID:61513-1652860800-1652866200@radarpag.com.br
SUMMARY:Accelerating Payments Modernisation
DESCRIPTION:
URL:https://radarpag.com.br/evento/accelerating-payments-modernisation/
LOCATION:Online\, Brazil
ATTACH;FMTTYPE=image/png:https://radarpag.com.br/wp-content/uploads/2022/04/esynergy_180522.png
END:VEVENT
BEGIN:VEVENT
DTSTART;TZID=America/Sao_Paulo:20220518T083000
DTEND;TZID=America/Sao_Paulo:20220518T083000
DTSTAMP:20260422T042559
CREATED:20220503T213541Z
LAST-MODIFIED:20220503T213541Z
UID:62572-1652862600-1652862600@radarpag.com.br
SUMMARY:Payment View - 4ª Edição EVENTO ONLINE E PRESENCIAL
DESCRIPTION:
URL:https://radarpag.com.br/evento/payment-view-4a-edicao-evento-online-e-presencial/
LOCATION:Online\, Brazil
ATTACH;FMTTYPE=image/png:https://radarpag.com.br/wp-content/uploads/2022/05/Idea-D_180522.png
END:VEVENT
BEGIN:VEVENT
DTSTART;TZID=America/Sao_Paulo:20220518T150000
DTEND;TZID=America/Sao_Paulo:20220518T150000
DTSTAMP:20260422T042559
CREATED:20220510T142846Z
LAST-MODIFIED:20220510T142846Z
UID:63261-1652886000-1652886000@radarpag.com.br
SUMMARY:O universo dos meios de pagamento no metaverso
DESCRIPTION:
URL:https://radarpag.com.br/evento/o-universo-dos-meios-de-pagamento-no-metaverso/
LOCATION:Online\, Brazil
ATTACH;FMTTYPE=image/jpeg:https://radarpag.com.br/wp-content/uploads/2022/05/E-Commerce-Brasil_180522.jpg
END:VEVENT
BEGIN:VEVENT
DTSTART;TZID=America/Sao_Paulo:20220519T070000
DTEND;TZID=America/Sao_Paulo:20220519T074500
DTSTAMP:20260422T042559
CREATED:20220510T142848Z
LAST-MODIFIED:20220510T142848Z
UID:63262-1652943600-1652946300@radarpag.com.br
SUMMARY:Open Banking Essentials: Seizing the Cross-Border Opportunity with payabl.
DESCRIPTION:
URL:https://radarpag.com.br/evento/open-banking-essentials-seizing-the-cross-border-opportunity-with-payabl/
LOCATION:Online\, Brazil
ATTACH;FMTTYPE=image/png:https://radarpag.com.br/wp-content/uploads/2022/05/Trustly_190522.png
END:VEVENT
BEGIN:VEVENT
DTSTART;TZID=America/Sao_Paulo:20220524T093000
DTEND;TZID=America/Sao_Paulo:20220524T183000
DTSTAMP:20260422T042559
CREATED:20220503T211150Z
LAST-MODIFIED:20220503T211211Z
UID:62558-1653384600-1653417000@radarpag.com.br
SUMMARY:Forum CB - Bancos\, Telcos e Utilities
DESCRIPTION:
URL:https://radarpag.com.br/evento/forum-cb-bancos-telcos-e-utilities-2/
LOCATION:GS1 Brasil – Associação Brasileira de Automação\, R. Henrique Monteiro\, 79 - Pinheiros\, São Paulo\, SP\, 05423-020\, Brazil
ATTACH;FMTTYPE=image/jpeg:https://radarpag.com.br/wp-content/uploads/2022/05/Cantarino-Brasileiro_240522.jpg
END:VEVENT
BEGIN:VEVENT
DTSTART;TZID=America/Sao_Paulo:20220524T180000
DTEND;TZID=America/Sao_Paulo:20220524T180000
DTSTAMP:20260422T042559
CREATED:20220510T142841Z
LAST-MODIFIED:20220510T142841Z
UID:63259-1653415200-1653415200@radarpag.com.br
SUMMARY:Impactos e oportunidades do Pix\, BaaS e Openbanking para as SUBadquirentes
DESCRIPTION:
URL:https://radarpag.com.br/evento/impactos-e-oportunidades-do-pix-baas-e-openbanking-para-as-subadquirentes/
LOCATION:Online\, Brazil
ATTACH;FMTTYPE=image/jpeg:https://radarpag.com.br/wp-content/uploads/2022/05/Ultralinks_240522.jpg
END:VEVENT
BEGIN:VEVENT
DTSTART;TZID=America/Sao_Paulo:20220525T093000
DTEND;TZID=America/Sao_Paulo:20220525T183000
DTSTAMP:20260422T042559
CREATED:20220503T211147Z
LAST-MODIFIED:20220503T211147Z
UID:62557-1653471000-1653503400@radarpag.com.br
SUMMARY:Forum CB - Bancos\, Telcos e Utilities
DESCRIPTION:
URL:https://radarpag.com.br/evento/forum-cb-bancos-telcos-e-utilities/
LOCATION:Online\, Brazil
ATTACH;FMTTYPE=image/jpeg:https://radarpag.com.br/wp-content/uploads/2022/05/Cantarino-Brasileiro_240522.jpg
END:VEVENT
BEGIN:VEVENT
DTSTART;TZID=America/Sao_Paulo:20220525T133000
DTEND;TZID=America/Sao_Paulo:20220525T140000
DTSTAMP:20260422T042559
CREATED:20220510T142851Z
LAST-MODIFIED:20220510T142851Z
UID:63263-1653485400-1653487200@radarpag.com.br
SUMMARY:How to Leverage Open Banking for Consumer Payments
DESCRIPTION:
URL:https://radarpag.com.br/evento/how-to-leverage-open-banking-for-consumer-payments/
LOCATION:Online\, Brazil
ATTACH;FMTTYPE=image/png:https://radarpag.com.br/wp-content/uploads/2022/05/Trustly_250522.png
END:VEVENT
BEGIN:VEVENT
DTSTART;TZID=America/Sao_Paulo:20220525T150000
DTEND;TZID=America/Sao_Paulo:20220525T170000
DTSTAMP:20260422T042559
CREATED:20220516T135920Z
LAST-MODIFIED:20220516T135920Z
UID:64065-1653490800-1653498000@radarpag.com.br
SUMMARY:FinTech Venture Fair
DESCRIPTION:
URL:https://radarpag.com.br/evento/fintech-venture-fair/
LOCATION:Online\, Brazil
ATTACH;FMTTYPE=image/png:https://radarpag.com.br/wp-content/uploads/2022/05/KiwiTech_250522.png
END:VEVENT
BEGIN:VEVENT
DTSTART;TZID=America/Sao_Paulo:20220526T090000
DTEND;TZID=America/Sao_Paulo:20220527T110000
DTSTAMP:20260422T042559
CREATED:20220524T181953Z
LAST-MODIFIED:20220524T181953Z
UID:64940-1653555600-1653649200@radarpag.com.br
SUMMARY:Pagamentos e Liquidações Internacionais
DESCRIPTION:
URL:https://radarpag.com.br/evento/pagamentos-e-liquidacoes-internacionais/
LOCATION:Online\, Brazil
ATTACH;FMTTYPE=image/png:https://radarpag.com.br/wp-content/uploads/2022/05/GMS-PERSPECTIVAS_260522.png
END:VEVENT
BEGIN:VEVENT
DTSTART;TZID=America/Sao_Paulo:20220526T100000
DTEND;TZID=America/Sao_Paulo:20220526T110000
DTSTAMP:20260422T042559
CREATED:20220524T181948Z
LAST-MODIFIED:20220524T181948Z
UID:64939-1653559200-1653562800@radarpag.com.br
SUMMARY:Webinar: How to harness instant bank payments in Europe
DESCRIPTION:
URL:https://radarpag.com.br/evento/webinar-how-to-harness-instant-bank-payments-in-europe/
LOCATION:Online\, Brazil
ATTACH;FMTTYPE=image/png:https://radarpag.com.br/wp-content/uploads/2022/05/TrueLayer_260522.png
END:VEVENT
BEGIN:VEVENT
DTSTART;TZID=America/Sao_Paulo:20220526T140000
DTEND;TZID=America/Sao_Paulo:20220526T143000
DTSTAMP:20260422T042559
CREATED:20220524T181945Z
LAST-MODIFIED:20220524T181945Z
UID:64938-1653573600-1653575400@radarpag.com.br
SUMMARY:Revelando a Infraestrutura do Open Finance
DESCRIPTION:
URL:https://radarpag.com.br/evento/revelando-a-infraestrutura-do-open-finance/
LOCATION:Online\, Brazil
ATTACH;FMTTYPE=image/png:https://radarpag.com.br/wp-content/uploads/2022/05/Prensa_260522.png
END:VEVENT
BEGIN:VEVENT
DTSTART;TZID=America/Sao_Paulo:20220527T060000
DTEND;TZID=America/Sao_Paulo:20220527T063000
DTSTAMP:20260422T042559
CREATED:20220516T135923Z
LAST-MODIFIED:20220516T135923Z
UID:64066-1653631200-1653633000@radarpag.com.br
SUMMARY:OBE Europe Public Webinar: Instant Payments and Open Banking
DESCRIPTION:
URL:https://radarpag.com.br/evento/obe-europe-public-webinar-instant-payments-and-open-banking/
LOCATION:Online\, Brazil
ATTACH;FMTTYPE=image/png:https://radarpag.com.br/wp-content/uploads/2022/05/Open-Banking-Europe_270522.png
END:VEVENT
BEGIN:VEVENT
DTSTART;TZID=America/Sao_Paulo:20220531T084000
DTEND;TZID=America/Sao_Paulo:20220531T180000
DTSTAMP:20260422T042559
CREATED:20220503T211202Z
LAST-MODIFIED:20220503T211202Z
UID:62560-1653986400-1654020000@radarpag.com.br
SUMMARY:2º Fórum Open Finance | Cases e Desafios para Implementação
DESCRIPTION:
URL:https://radarpag.com.br/evento/2o-forum-open-finance-cases-e-desafios-para-implementacao/
LOCATION:Online\, Brazil
ATTACH;FMTTYPE=image/png:https://radarpag.com.br/wp-content/uploads/2022/05/Conceito-Seminarios_310522.png
END:VEVENT
BEGIN:VEVENT
DTSTART;TZID=America/Sao_Paulo:20220531T090000
DTEND;TZID=America/Sao_Paulo:20220531T103000
DTSTAMP:20260422T042559
CREATED:20220516T135913Z
LAST-MODIFIED:20220516T135913Z
UID:64063-1653987600-1653993000@radarpag.com.br
SUMMARY:O futuro digital das ATMs
DESCRIPTION:
URL:https://radarpag.com.br/evento/o-futuro-digital-das-atms/
LOCATION:Online\, Brazil
ATTACH;FMTTYPE=image/png:https://radarpag.com.br/wp-content/uploads/2022/05/Cantarino-Brasileiro_310522.png
END:VEVENT
BEGIN:VEVENT
DTSTART;TZID=America/Sao_Paulo:20220601T190000
DTEND;TZID=America/Sao_Paulo:20220601T193000
DTSTAMP:20260422T042559
CREATED:20220524T181937Z
LAST-MODIFIED:20220524T181937Z
UID:64937-1654110000-1654111800@radarpag.com.br
SUMMARY:Webinar: O futuro do varejo é com o PIX parcelado?
DESCRIPTION:
URL:https://radarpag.com.br/evento/webinar-o-futuro-do-varejo-e-com-o-pix-parcelado/
LOCATION:Online\, Brazil
ATTACH;FMTTYPE=image/png:https://radarpag.com.br/wp-content/uploads/2022/05/Pagaleve_010622.png
END:VEVENT
BEGIN:VEVENT
DTSTART;TZID=America/Sao_Paulo:20220602T140000
DTEND;TZID=America/Sao_Paulo:20220602T150000
DTSTAMP:20260422T042559
CREATED:20220531T185309Z
LAST-MODIFIED:20220531T185309Z
UID:65703-1654178400-1654182000@radarpag.com.br
SUMMARY:La revolución Fintech y el futuro del talento en el sector financiero
DESCRIPTION:
URL:https://radarpag.com.br/evento/la-revolucion-fintech-y-el-futuro-del-talento-en-el-sector-financiero/
LOCATION:Online\, Brazil
ATTACH;FMTTYPE=image/png:https://radarpag.com.br/wp-content/uploads/2022/05/UBITS_020622.png
END:VEVENT
END:VCALENDAR