BEGIN:VCALENDAR
VERSION:2.0
PRODID:-//Radarpag - ECPv5.2.1.1//NONSGML v1.0//EN
CALSCALE:GREGORIAN
METHOD:PUBLISH
X-WR-CALNAME:Radarpag
X-ORIGINAL-URL:https://radarpag.com.br
X-WR-CALDESC:Eventos para Radarpag
BEGIN:VTIMEZONE
TZID:America/Sao_Paulo
BEGIN:STANDARD
TZOFFSETFROM:-0300
TZOFFSETTO:-0300
TZNAME:-03
DTSTART:20220101T000000
END:STANDARD
END:VTIMEZONE
BEGIN:VEVENT
DTSTART;TZID=America/Sao_Paulo:20220630T060000
DTEND;TZID=America/Sao_Paulo:20220630T090000
DTSTAMP:20260422T003720
CREATED:20220315T204043Z
LAST-MODIFIED:20220315T204043Z
UID:57553-1656568800-1656579600@radarpag.com.br
SUMMARY:Cloud in FinTech & Banking Summit
DESCRIPTION:
URL:https://radarpag.com.br/evento/cloud-in-fintech-banking-summit/
LOCATION:Online\, Brazil
ATTACH;FMTTYPE=image/jpeg:https://radarpag.com.br/wp-content/uploads/2022/03/TechForge-Media_300622.jpg
END:VEVENT
BEGIN:VEVENT
DTSTART;TZID=America/Sao_Paulo:20220719T170000
DTEND;TZID=America/Sao_Paulo:20220721T190000
DTSTAMP:20260422T003720
CREATED:20220617T152133Z
LAST-MODIFIED:20220617T152133Z
UID:67476-1658250000-1658430000@radarpag.com.br
SUMMARY:Banking Innovation Forum. 22
DESCRIPTION:
URL:https://radarpag.com.br/evento/banking-innovation-forum-22/
LOCATION:Online\, Brazil
ATTACH;FMTTYPE=image/png:https://radarpag.com.br/wp-content/uploads/2022/06/idwall_190722.png
END:VEVENT
BEGIN:VEVENT
DTSTART;TZID=America/Sao_Paulo:20220802T180000
DTEND;TZID=America/Sao_Paulo:20220802T193000
DTSTAMP:20260422T003720
CREATED:20220801T204310Z
LAST-MODIFIED:20220801T204310Z
UID:72011-1659463200-1659468600@radarpag.com.br
SUMMARY:Ultratalks "Como inovar em Payments - Lições aprendidas com o PIX"
DESCRIPTION:
URL:https://radarpag.com.br/evento/ultratalks-como-inovar-em-payments-licoes-aprendidas-com-o-pix/
LOCATION:Online\, Brazil
ATTACH;FMTTYPE=image/png:https://radarpag.com.br/wp-content/uploads/2022/08/Ultralinks_020822.png
END:VEVENT
END:VCALENDAR