BEGIN:VCALENDAR
VERSION:2.0
PRODID:-//Radarpag - ECPv5.2.1.1//NONSGML v1.0//EN
CALSCALE:GREGORIAN
METHOD:PUBLISH
X-WR-CALNAME:Radarpag
X-ORIGINAL-URL:https://radarpag.com.br
X-WR-CALDESC:Eventos para Radarpag
BEGIN:VTIMEZONE
TZID:America/Sao_Paulo
BEGIN:STANDARD
TZOFFSETFROM:-0300
TZOFFSETTO:-0300
TZNAME:-03
DTSTART:20220101T000000
END:STANDARD
END:VTIMEZONE
BEGIN:VEVENT
DTSTART;TZID=America/Sao_Paulo:20221108T103000
DTEND;TZID=America/Sao_Paulo:20221108T113000
DTSTAMP:20260421T180525
CREATED:20221107T185237Z
LAST-MODIFIED:20221107T185237Z
UID:82069-1667903400-1667907000@radarpag.com.br
SUMMARY:Webinar Series Yellow | Como o BNPL já é uma realidade disruptiva
DESCRIPTION:
URL:https://radarpag.com.br/evento/webinar-series-yellow-como-o-bnpl-ja-e-uma-realidade-disruptiva/
LOCATION:Online\, Brazil
ATTACH;FMTTYPE=image/png:https://radarpag.com.br/wp-content/uploads/2022/11/CM-Software_081122.png
END:VEVENT
BEGIN:VEVENT
DTSTART;TZID=America/Sao_Paulo:20221108T210000
DTEND;TZID=America/Sao_Paulo:20221108T220000
DTSTAMP:20260421T180525
CREATED:20221103T185303Z
LAST-MODIFIED:20221103T185844Z
UID:81693-1667941200-1667944800@radarpag.com.br
SUMMARY:BANCOS Y FINTECH: TENDENCIAS EN EL 2023
DESCRIPTION:
URL:https://radarpag.com.br/evento/bancos-y-fintech-tendencias-en-el-2023/
LOCATION:Online\, Brazil
ATTACH;FMTTYPE=image/png:https://radarpag.com.br/wp-content/uploads/2022/11/Escuela-Europea-de-Gerencia-EEG_081122.png
END:VEVENT
BEGIN:VEVENT
DTSTART;TZID=America/Sao_Paulo:20221110T090000
DTEND;TZID=America/Sao_Paulo:20221110T120000
DTSTAMP:20260421T180525
CREATED:20221103T160947Z
LAST-MODIFIED:20221103T160947Z
UID:81683-1668070800-1668081600@radarpag.com.br
SUMMARY:Terceiro Episódio Blockchain Finance Brazil
DESCRIPTION:
URL:https://radarpag.com.br/evento/terceiro-episodio-blockchain-finance-brazil/
LOCATION:Online\, Brazil
END:VEVENT
BEGIN:VEVENT
DTSTART;TZID=America/Sao_Paulo:20221110T110000
DTEND;TZID=America/Sao_Paulo:20221110T120000
DTSTAMP:20260421T180525
CREATED:20221103T181131Z
LAST-MODIFIED:20221103T181131Z
UID:81689-1668078000-1668081600@radarpag.com.br
SUMMARY:PIX\, BOLETO\, FEDNOW e RTP (REQUEST-TO-PAY) Novas opções de Cash Management
DESCRIPTION:
URL:https://radarpag.com.br/evento/pix-boleto-fednow-e-rtp-request-to-pay-novas-opcoes-de-cash-management/
LOCATION:Online\, Brazil
ATTACH;FMTTYPE=image/png:https://radarpag.com.br/wp-content/uploads/2022/11/CM-Software_101122.png
END:VEVENT
BEGIN:VEVENT
DTSTART;TZID=America/Sao_Paulo:20221116T090000
DTEND;TZID=America/Sao_Paulo:20221116T090000
DTSTAMP:20260421T180525
CREATED:20221004T100227Z
LAST-MODIFIED:20221004T100227Z
UID:78379-1668589200-1668589200@radarpag.com.br
SUMMARY:Innovation Pay
DESCRIPTION:O Innovation Pay\, principal evento de pagamento da AméricaLatina prepara muitas novidades para 2022. Nesta edição\, uneforças com o evento Recorrência e traz o mercado de pagamentoscomo você nunca viu\, através de uma programação voltada àinovação\, com conteúdo rico e muito networking!
URL:https://radarpag.com.br/evento/innovation-pay/
LOCATION:Hotel Unique\, Av. Brigadeiro Luís Antônio\, 4700 - Jardim Paulista\, São Paulo\, SP\, 01402-002\, Brazil
CATEGORIES:Destaques
ATTACH;FMTTYPE=image/png:https://radarpag.com.br/wp-content/uploads/2022/10/Capa-Facebook.png
END:VEVENT
BEGIN:VEVENT
DTSTART;TZID=America/Sao_Paulo:20221117T090000
DTEND;TZID=America/Sao_Paulo:20221117T090000
DTSTAMP:20260421T180525
CREATED:20221103T160950Z
LAST-MODIFIED:20221103T160950Z
UID:81684-1668675600-1668675600@radarpag.com.br
SUMMARY:Insights Sobre "A Experiência dos Clientes dos Bancos no Brasil"
DESCRIPTION:
URL:https://radarpag.com.br/evento/insights-sobre-a-experiencia-dos-clientes-dos-bancos-no-brasil/
LOCATION:Online\, Brazil
END:VEVENT
BEGIN:VEVENT
DTSTART;TZID=America/Sao_Paulo:20221117T130000
DTEND;TZID=America/Sao_Paulo:20221117T140000
DTSTAMP:20260421T180525
CREATED:20221103T185255Z
LAST-MODIFIED:20221103T185834Z
UID:81692-1668690000-1668693600@radarpag.com.br
SUMMARY:THE FUTURE OF PAYMENTS: VRP & Beyond
DESCRIPTION:
URL:https://radarpag.com.br/evento/the-future-of-payments-vrp-beyond/
LOCATION:Online\, Brazil
ATTACH;FMTTYPE=image/png:https://radarpag.com.br/wp-content/uploads/2022/11/Open-Banking-Excellence-OBE_171122.png
END:VEVENT
BEGIN:VEVENT
DTSTART;TZID=America/Sao_Paulo:20221117T180000
DTEND;TZID=America/Sao_Paulo:20221117T190000
DTSTAMP:20260421T180525
CREATED:20221103T160954Z
LAST-MODIFIED:20221103T160954Z
UID:81685-1668708000-1668711600@radarpag.com.br
SUMMARY:Ultratalks 12 - Pagamentos crossborder mais próximos de você!
DESCRIPTION:
URL:https://radarpag.com.br/evento/ultratalks-12-pagamentos-crossborder-mais-proximos-de-voce/
LOCATION:Online\, Brazil
END:VEVENT
BEGIN:VEVENT
DTSTART;TZID=America/Sao_Paulo:20221122T220000
DTEND;TZID=America/Sao_Paulo:20221123T210000
DTSTAMP:20260421T180525
CREATED:20221122T141554Z
LAST-MODIFIED:20221122T141554Z
UID:83952-1669154400-1669237200@radarpag.com.br
SUMMARY:FinTech Summit
DESCRIPTION:
URL:https://radarpag.com.br/evento/fintech-summit/
LOCATION:Online\, Brazil
ATTACH;FMTTYPE=image/png:https://radarpag.com.br/wp-content/uploads/2022/11/LOGYTalks_221122.png
END:VEVENT
BEGIN:VEVENT
DTSTART;TZID=America/Sao_Paulo:20221125T060000
DTEND;TZID=America/Sao_Paulo:20221125T080000
DTSTAMP:20260421T180525
CREATED:20221122T141550Z
LAST-MODIFIED:20221122T141550Z
UID:83951-1669356000-1669363200@radarpag.com.br
SUMMARY:Webinar #9 "Fintech: Trends and Implications”
DESCRIPTION:
URL:https://radarpag.com.br/evento/webinar-9-fintech-trends-and-implications/
LOCATION:Online\, Brazil
ATTACH;FMTTYPE=image/png:https://radarpag.com.br/wp-content/uploads/2022/11/FBNet-AVSE_251122.png
END:VEVENT
BEGIN:VEVENT
DTSTART;TZID=America/Sao_Paulo:20221130T230000
DTEND;TZID=America/Sao_Paulo:20221201T000000
DTSTAMP:20260421T180525
CREATED:20221122T141548Z
LAST-MODIFIED:20221122T141548Z
UID:83950-1669849200-1669852800@radarpag.com.br
SUMMARY:Payment innovations in a customer-centric world
DESCRIPTION:
URL:https://radarpag.com.br/evento/payment-innovations-in-a-customer-centric-world/
LOCATION:Online\, Brazil
ATTACH;FMTTYPE=image/png:https://radarpag.com.br/wp-content/uploads/2022/11/Novatti-Group_301122.png
END:VEVENT
BEGIN:VEVENT
DTSTART;TZID=America/Sao_Paulo:20221201T170000
DTEND;TZID=America/Sao_Paulo:20221201T170000
DTSTAMP:20260421T180525
CREATED:20221122T141546Z
LAST-MODIFIED:20221122T141546Z
UID:83949-1669914000-1669914000@radarpag.com.br
SUMMARY:Tendências da Indústria Financeira e Tecnologia - O que esperar para 2023?
DESCRIPTION:
URL:https://radarpag.com.br/evento/tendencias-da-industria-financeira-e-tecnologia-o-que-esperar-para-2023/
LOCATION:Online\, Brazil
ATTACH;FMTTYPE=image/png:https://radarpag.com.br/wp-content/uploads/2022/11/CertDox_011222.png
END:VEVENT
END:VCALENDAR