BEGIN:VCALENDAR
VERSION:2.0
PRODID:-//Radarpag - ECPv5.2.1.1//NONSGML v1.0//EN
CALSCALE:GREGORIAN
METHOD:PUBLISH
X-WR-CALNAME:Radarpag
X-ORIGINAL-URL:https://radarpag.com.br
X-WR-CALDESC:Eventos para Radarpag
BEGIN:VTIMEZONE
TZID:America/Sao_Paulo
BEGIN:STANDARD
TZOFFSETFROM:-0300
TZOFFSETTO:-0300
TZNAME:-03
DTSTART:20230101T000000
END:STANDARD
END:VTIMEZONE
BEGIN:VEVENT
DTSTART;TZID=America/Sao_Paulo:20230328T090000
DTEND;TZID=America/Sao_Paulo:20230329T173000
DTSTAMP:20260421T113734
CREATED:20230202T123658Z
LAST-MODIFIED:20230202T123658Z
UID:90621-1679994000-1680111000@radarpag.com.br
SUMMARY:16ᵒ CMEP
DESCRIPTION:
URL:https://radarpag.com.br/evento/16%e1%b5%92-cmep/
LOCATION:Teatro Santander\, Av. Pres. Juscelino Kubitschek\, 2041 - Itaim Bibi\, São Paulo\, SP\, 04543-011\, Brazil
END:VEVENT
END:VCALENDAR