BEGIN:VCALENDAR
VERSION:2.0
PRODID:-//Radarpag - ECPv5.2.1.1//NONSGML v1.0//EN
CALSCALE:GREGORIAN
METHOD:PUBLISH
X-WR-CALNAME:Radarpag
X-ORIGINAL-URL:https://radarpag.com.br
X-WR-CALDESC:Eventos para Radarpag
BEGIN:VTIMEZONE
TZID:America/Sao_Paulo
BEGIN:STANDARD
TZOFFSETFROM:-0300
TZOFFSETTO:-0300
TZNAME:-03
DTSTART:20240101T000000
END:STANDARD
END:VTIMEZONE
BEGIN:VEVENT
DTSTART;TZID=America/Sao_Paulo:20240222T090000
DTEND;TZID=America/Sao_Paulo:20240222T093000
DTSTAMP:20260420T165336
CREATED:20240221T192731Z
LAST-MODIFIED:20240221T193316Z
UID:134403-1708592400-1708594200@radarpag.com.br
SUMMARY:Live de Apresentação dos resultados de 2023
DESCRIPTION:
URL:https://radarpag.com.br/evento/live-de-apresentacao-dos-resultados-de-2023/
LOCATION:Online\, Brazil
END:VEVENT
BEGIN:VEVENT
DTSTART;TZID=America/Sao_Paulo:20240222T133000
DTEND;TZID=America/Sao_Paulo:20240222T150000
DTSTAMP:20260420T165336
CREATED:20240221T193549Z
LAST-MODIFIED:20240221T193549Z
UID:134404-1708608600-1708614000@radarpag.com.br
SUMMARY:How to build and launch a fintech product in Africa
DESCRIPTION:
URL:https://radarpag.com.br/evento/how-to-build-and-launch-a-fintech-product-in-africa/
LOCATION:Online\, Brazil
END:VEVENT
BEGIN:VEVENT
DTSTART;TZID=America/Sao_Paulo:20240223T010000
DTEND;TZID=America/Sao_Paulo:20240223T103000
DTSTAMP:20260420T165336
CREATED:20240221T193558Z
LAST-MODIFIED:20240221T193558Z
UID:134405-1708650000-1708684200@radarpag.com.br
SUMMARY:Razorpay FTX’24 - India’s Premier FinTech Event
DESCRIPTION:
URL:https://radarpag.com.br/evento/razorpay-ftx24-indias-premier-fintech-event/
LOCATION:Online\, Brazil
END:VEVENT
BEGIN:VEVENT
DTSTART;TZID=America/Sao_Paulo:20240226T091500
DTEND;TZID=America/Sao_Paulo:20240226T093000
DTSTAMP:20260420T165336
CREATED:20240221T194751Z
LAST-MODIFIED:20240221T194751Z
UID:134412-1708938900-1708939800@radarpag.com.br
SUMMARY:Morning Call | Mercado em 15 minutos
DESCRIPTION:
URL:https://radarpag.com.br/evento/morning-call-mercado-em-15-minutos/
LOCATION:Online\, Brazil
END:VEVENT
BEGIN:VEVENT
DTSTART;TZID=America/Sao_Paulo:20240227T100000
DTEND;TZID=America/Sao_Paulo:20240227T110000
DTSTAMP:20260420T165336
CREATED:20240221T194810Z
LAST-MODIFIED:20240221T194810Z
UID:134414-1709028000-1709031600@radarpag.com.br
SUMMARY:Como a tecnologia pode ajudar a conceder crédito com mais segurança?
DESCRIPTION:
URL:https://radarpag.com.br/evento/como-a-tecnologia-pode-ajudar-a-conceder-credito-com-mais-seguranca/
LOCATION:Online\, Brazil
END:VEVENT
BEGIN:VEVENT
DTSTART;TZID=America/Sao_Paulo:20240227T120000
DTEND;TZID=America/Sao_Paulo:20240227T120000
DTSTAMP:20260420T165336
CREATED:20240221T194800Z
LAST-MODIFIED:20240221T194800Z
UID:134413-1709035200-1709035200@radarpag.com.br
SUMMARY:Navigating the 2024 Payment Life Cycle
DESCRIPTION:
URL:https://radarpag.com.br/evento/navigating-the-2024-payment-life-cycle/
LOCATION:Online\, Brazil
END:VEVENT
BEGIN:VEVENT
DTSTART;TZID=America/Sao_Paulo:20240228T120000
DTEND;TZID=America/Sao_Paulo:20240228T130000
DTSTAMP:20260420T165336
CREATED:20240221T200509Z
LAST-MODIFIED:20240221T200509Z
UID:134422-1709121600-1709125200@radarpag.com.br
SUMMARY:A Faster Future - Fintech Opportunities on The Horizon
DESCRIPTION:
URL:https://radarpag.com.br/evento/a-faster-future-fintech-opportunities-on-the-horizon/
LOCATION:Online\, Brazil
END:VEVENT
BEGIN:VEVENT
DTSTART;TZID=America/Sao_Paulo:20240229T080000
DTEND;TZID=America/Sao_Paulo:20240229T090000
DTSTAMP:20260420T165336
CREATED:20240221T200518Z
LAST-MODIFIED:20240221T200518Z
UID:134423-1709193600-1709197200@radarpag.com.br
SUMMARY:Perspectivas para a economia global em 2024
DESCRIPTION:
URL:https://radarpag.com.br/evento/perspectivas-para-a-economia-global-em-2024/
LOCATION:Online\, Brazil
END:VEVENT
END:VCALENDAR