BEGIN:VCALENDAR
VERSION:2.0
PRODID:-//Radarpag - ECPv5.2.1.1//NONSGML v1.0//EN
CALSCALE:GREGORIAN
METHOD:PUBLISH
X-WR-CALNAME:Radarpag
X-ORIGINAL-URL:https://radarpag.com.br
X-WR-CALDESC:Eventos para Radarpag
BEGIN:VTIMEZONE
TZID:America/Sao_Paulo
BEGIN:STANDARD
TZOFFSETFROM:-0300
TZOFFSETTO:-0300
TZNAME:-03
DTSTART:20240101T000000
END:STANDARD
END:VTIMEZONE
BEGIN:VEVENT
DTSTART;TZID=America/Sao_Paulo:20240226T091500
DTEND;TZID=America/Sao_Paulo:20240226T093000
DTSTAMP:20260420T145435
CREATED:20240221T194751Z
LAST-MODIFIED:20240221T194751Z
UID:134412-1708938900-1708939800@radarpag.com.br
SUMMARY:Morning Call | Mercado em 15 minutos
DESCRIPTION:
URL:https://radarpag.com.br/evento/morning-call-mercado-em-15-minutos/
LOCATION:Online\, Brazil
END:VEVENT
BEGIN:VEVENT
DTSTART;TZID=America/Sao_Paulo:20240227T100000
DTEND;TZID=America/Sao_Paulo:20240227T110000
DTSTAMP:20260420T145435
CREATED:20240221T194810Z
LAST-MODIFIED:20240221T194810Z
UID:134414-1709028000-1709031600@radarpag.com.br
SUMMARY:Como a tecnologia pode ajudar a conceder crédito com mais segurança?
DESCRIPTION:
URL:https://radarpag.com.br/evento/como-a-tecnologia-pode-ajudar-a-conceder-credito-com-mais-seguranca/
LOCATION:Online\, Brazil
END:VEVENT
BEGIN:VEVENT
DTSTART;TZID=America/Sao_Paulo:20240227T120000
DTEND;TZID=America/Sao_Paulo:20240227T120000
DTSTAMP:20260420T145435
CREATED:20240221T194800Z
LAST-MODIFIED:20240221T194800Z
UID:134413-1709035200-1709035200@radarpag.com.br
SUMMARY:Navigating the 2024 Payment Life Cycle
DESCRIPTION:
URL:https://radarpag.com.br/evento/navigating-the-2024-payment-life-cycle/
LOCATION:Online\, Brazil
END:VEVENT
BEGIN:VEVENT
DTSTART;TZID=America/Sao_Paulo:20240228T120000
DTEND;TZID=America/Sao_Paulo:20240228T130000
DTSTAMP:20260420T145435
CREATED:20240221T200509Z
LAST-MODIFIED:20240221T200509Z
UID:134422-1709121600-1709125200@radarpag.com.br
SUMMARY:A Faster Future - Fintech Opportunities on The Horizon
DESCRIPTION:
URL:https://radarpag.com.br/evento/a-faster-future-fintech-opportunities-on-the-horizon/
LOCATION:Online\, Brazil
END:VEVENT
BEGIN:VEVENT
DTSTART;TZID=America/Sao_Paulo:20240229T080000
DTEND;TZID=America/Sao_Paulo:20240229T090000
DTSTAMP:20260420T145435
CREATED:20240221T200518Z
LAST-MODIFIED:20240221T200518Z
UID:134423-1709193600-1709197200@radarpag.com.br
SUMMARY:Perspectivas para a economia global em 2024
DESCRIPTION:
URL:https://radarpag.com.br/evento/perspectivas-para-a-economia-global-em-2024/
LOCATION:Online\, Brazil
END:VEVENT
BEGIN:VEVENT
DTSTART;TZID=America/Sao_Paulo:20240305T090000
DTEND;TZID=America/Sao_Paulo:20240305T120000
DTSTAMP:20260420T145435
CREATED:20240221T191415Z
LAST-MODIFIED:20240221T191415Z
UID:134366-1709629200-1709640000@radarpag.com.br
SUMMARY:Webinar | Bancos & Educação
DESCRIPTION:
URL:https://radarpag.com.br/evento/webinar-bancos-educacao/
LOCATION:Online\, Brazil
END:VEVENT
BEGIN:VEVENT
DTSTART;TZID=America/Sao_Paulo:20240308T090000
DTEND;TZID=America/Sao_Paulo:20240308T120000
DTSTAMP:20260420T145435
CREATED:20240304T205833Z
LAST-MODIFIED:20240304T205833Z
UID:136314-1709888400-1709899200@radarpag.com.br
SUMMARY:Fintech Summit 2024
DESCRIPTION:
URL:https://radarpag.com.br/evento/fintech-summit-2024/
LOCATION:Online\, Brazil
END:VEVENT
BEGIN:VEVENT
DTSTART;TZID=America/Sao_Paulo:20240313T090000
DTEND;TZID=America/Sao_Paulo:20240313T133000
DTSTAMP:20260420T145435
CREATED:20240305T185025Z
LAST-MODIFIED:20240305T185025Z
UID:136510-1710320400-1710336600@radarpag.com.br
SUMMARY:Ativos digitais
DESCRIPTION:
URL:https://radarpag.com.br/evento/ativos-digitais/
LOCATION:Online\, Brazil
END:VEVENT
BEGIN:VEVENT
DTSTART;TZID=America/Sao_Paulo:20240313T150000
DTEND;TZID=America/Sao_Paulo:20240313T183000
DTSTAMP:20260420T145435
CREATED:20240312T143133Z
LAST-MODIFIED:20240312T143133Z
UID:137430-1710342000-1710354600@radarpag.com.br
SUMMARY:Meetup Drex
DESCRIPTION:
URL:https://radarpag.com.br/evento/meetup-drex/
LOCATION:Online\, Brazil
END:VEVENT
BEGIN:VEVENT
DTSTART;TZID=America/Sao_Paulo:20240314T100000
DTEND;TZID=America/Sao_Paulo:20240314T110000
DTSTAMP:20260420T145435
CREATED:20240312T143117Z
LAST-MODIFIED:20240312T143117Z
UID:137429-1710410400-1710414000@radarpag.com.br
SUMMARY:Webinário Regulação de Criptomoedas e outros ativos digitais no Brasil
DESCRIPTION:
URL:https://radarpag.com.br/evento/webinario-regulacao-de-criptomoedas-e-outros-ativos-digitais-no-brasil/
LOCATION:Online\, Brazil
END:VEVENT
BEGIN:VEVENT
DTSTART;TZID=America/Sao_Paulo:20240315T110000
DTEND;TZID=America/Sao_Paulo:20240315T110000
DTSTAMP:20260420T145435
CREATED:20240314T170441Z
LAST-MODIFIED:20240314T170441Z
UID:137806-1710500400-1710500400@radarpag.com.br
SUMMARY:A Autorregulação dos Bancos e os Impactos na Vida do Consumidor
DESCRIPTION:
URL:https://radarpag.com.br/evento/a-autorregulacao-dos-bancos-e-os-impactos-na-vida-do-consumidor/
LOCATION:Online\, Brazil
END:VEVENT
BEGIN:VEVENT
DTSTART;TZID=America/Sao_Paulo:20240321T170000
DTEND;TZID=America/Sao_Paulo:20240321T180000
DTSTAMP:20260420T145435
CREATED:20240312T143103Z
LAST-MODIFIED:20240312T143103Z
UID:137428-1711040400-1711044000@radarpag.com.br
SUMMARY:Desafios da adoção do IFRS 9 para Instituições Financeiras
DESCRIPTION:
URL:https://radarpag.com.br/evento/desafios-da-adocao-do-ifrs-9-para-instituicoes-financeiras/
LOCATION:Online\, Brazil
END:VEVENT
END:VCALENDAR