BEGIN:VCALENDAR
VERSION:2.0
PRODID:-//Radarpag - ECPv5.2.1.1//NONSGML v1.0//EN
CALSCALE:GREGORIAN
METHOD:PUBLISH
X-WR-CALNAME:Radarpag
X-ORIGINAL-URL:https://radarpag.com.br
X-WR-CALDESC:Eventos para Radarpag
BEGIN:VTIMEZONE
TZID:America/Sao_Paulo
BEGIN:STANDARD
TZOFFSETFROM:-0300
TZOFFSETTO:-0300
TZNAME:-03
DTSTART:20210101T000000
END:STANDARD
END:VTIMEZONE
BEGIN:VEVENT
DTSTART;TZID=America/Sao_Paulo:20210317T130000
DTEND;TZID=America/Sao_Paulo:20210317T160000
DTSTAMP:20260423T230318
CREATED:20210304T160158Z
LAST-MODIFIED:20210304T160158Z
UID:7770-1615986000-1615996800@radarpag.com.br
SUMMARY:After Dark - Open Finance: Fact or Fantasy?
DESCRIPTION:
URL:https://radarpag.com.br/evento/after-dark-open-finance-fact-or-fantasy/
LOCATION:Online\, Brazil
ATTACH;FMTTYPE=image/jpeg:https://radarpag.com.br/wp-content/uploads/2021/03/11fs_170321.jpg
END:VEVENT
END:VCALENDAR