BEGIN:VCALENDAR
VERSION:2.0
PRODID:-//Radarpag - ECPv5.2.1.1//NONSGML v1.0//EN
CALSCALE:GREGORIAN
METHOD:PUBLISH
X-WR-CALNAME:Radarpag
X-ORIGINAL-URL:https://radarpag.com.br
X-WR-CALDESC:Eventos para Radarpag
BEGIN:VTIMEZONE
TZID:America/Sao_Paulo
BEGIN:STANDARD
TZOFFSETFROM:-0300
TZOFFSETTO:-0300
TZNAME:-03
DTSTART:20210101T000000
END:STANDARD
END:VTIMEZONE
BEGIN:VEVENT
DTSTART;TZID=America/Sao_Paulo:20210706T190000
DTEND;TZID=America/Sao_Paulo:20210706T190000
DTSTAMP:20260422T200923
CREATED:20210705T184453Z
LAST-MODIFIED:20210705T184453Z
UID:24160-1625598000-1625598000@radarpag.com.br
SUMMARY:CertLive | Videoconferência na Emissão Primária e Open Banking
DESCRIPTION:
URL:https://radarpag.com.br/evento/certlive-videoconferencia-na-emissao-primaria-e-open-banking/
LOCATION:Online\, Brazil
END:VEVENT
END:VCALENDAR