BEGIN:VCALENDAR
VERSION:2.0
PRODID:-//Radarpag - ECPv5.2.1.1//NONSGML v1.0//EN
CALSCALE:GREGORIAN
METHOD:PUBLISH
X-WR-CALNAME:Radarpag
X-ORIGINAL-URL:https://radarpag.com.br
X-WR-CALDESC:Eventos para Radarpag
BEGIN:VTIMEZONE
TZID:America/Sao_Paulo
BEGIN:STANDARD
TZOFFSETFROM:-0300
TZOFFSETTO:-0300
TZNAME:-03
DTSTART:20210101T000000
END:STANDARD
END:VTIMEZONE
BEGIN:VEVENT
DTSTART;TZID=America/Sao_Paulo:20210329T190000
DTEND;TZID=America/Sao_Paulo:20210329T200000
DTSTAMP:20260422T090246
CREATED:20210322T152912Z
LAST-MODIFIED:20210322T152912Z
UID:9593-1617044400-1617048000@radarpag.com.br
SUMMARY:Como a Tecnologia transformou a Gestão de Seguros?
DESCRIPTION:
URL:https://radarpag.com.br/evento/como-a-tecnologia-transformou-a-gestao-de-seguros/
LOCATION:Online\, Brazil
ATTACH;FMTTYPE=image/jpeg:https://radarpag.com.br/wp-content/uploads/2021/03/add_290321.jpg
END:VEVENT
END:VCALENDAR