BEGIN:VCALENDAR
VERSION:2.0
PRODID:-//Radarpag - ECPv5.2.1.1//NONSGML v1.0//EN
CALSCALE:GREGORIAN
METHOD:PUBLISH
X-WR-CALNAME:Radarpag
X-ORIGINAL-URL:https://radarpag.com.br
X-WR-CALDESC:Eventos para Radarpag
BEGIN:VTIMEZONE
TZID:America/Sao_Paulo
BEGIN:STANDARD
TZOFFSETFROM:-0300
TZOFFSETTO:-0300
TZNAME:-03
DTSTART:20210101T000000
END:STANDARD
END:VTIMEZONE
BEGIN:VEVENT
DTSTART;TZID=America/Sao_Paulo:20210218T110000
DTEND;TZID=America/Sao_Paulo:20210218T130000
DTSTAMP:20260420T095736
CREATED:20210217T152947Z
LAST-MODIFIED:20210217T152947Z
UID:6153-1613646000-1613653200@radarpag.com.br
SUMMARY:DID For Open Banking
DESCRIPTION:
URL:https://radarpag.com.br/evento/did-for-open-banking/
LOCATION:Online\, Brazil
ATTACH;FMTTYPE=image/jpeg:https://radarpag.com.br/wp-content/uploads/2021/02/gba_180221.jpg
END:VEVENT
END:VCALENDAR