BEGIN:VCALENDAR
VERSION:2.0
PRODID:-//Radarpag - ECPv5.2.1.1//NONSGML v1.0//EN
CALSCALE:GREGORIAN
METHOD:PUBLISH
X-WR-CALNAME:Radarpag
X-ORIGINAL-URL:https://radarpag.com.br
X-WR-CALDESC:Eventos para Radarpag
BEGIN:VTIMEZONE
TZID:America/Sao_Paulo
BEGIN:STANDARD
TZOFFSETFROM:-0300
TZOFFSETTO:-0300
TZNAME:-03
DTSTART:20210101T000000
END:STANDARD
END:VTIMEZONE
BEGIN:VEVENT
DTSTART;TZID=America/Sao_Paulo:20210720T090000
DTEND;TZID=America/Sao_Paulo:20210720T180000
DTSTAMP:20260423T205035
CREATED:20210712T221738Z
LAST-MODIFIED:20210712T221738Z
UID:25228-1626771600-1626804000@radarpag.com.br
SUMMARY:E-Commerce Big Solutions Black Friday 2021
DESCRIPTION:
URL:https://radarpag.com.br/evento/e-commerce-big-solutions-black-friday-2021/
LOCATION:Online\, Brazil
ATTACH;FMTTYPE=image/jpeg:https://radarpag.com.br/wp-content/uploads/2021/07/e-commerce-brasil_200721.jpg
END:VEVENT
END:VCALENDAR