BEGIN:VCALENDAR
VERSION:2.0
PRODID:-//Radarpag - ECPv5.2.1.1//NONSGML v1.0//EN
CALSCALE:GREGORIAN
METHOD:PUBLISH
X-WR-CALNAME:Radarpag
X-ORIGINAL-URL:https://radarpag.com.br
X-WR-CALDESC:Eventos para Radarpag
BEGIN:VTIMEZONE
TZID:America/Sao_Paulo
BEGIN:STANDARD
TZOFFSETFROM:-0300
TZOFFSETTO:-0300
TZNAME:-03
DTSTART:20240101T000000
END:STANDARD
END:VTIMEZONE
BEGIN:VEVENT
DTSTART;TZID=America/Sao_Paulo:20240425T080000
DTEND;TZID=America/Sao_Paulo:20240425T160000
DTSTAMP:20260422T055103
CREATED:20240319T181640Z
LAST-MODIFIED:20240412T151848Z
UID:138316-1714032000-1714060800@radarpag.com.br
SUMMARY:Fórum Bancos & Banking
DESCRIPTION:
URL:https://radarpag.com.br/evento/forum-bancos-banking/
LOCATION:Auditório CIEE-Centro de Integração Empresa -Escola\, Rua Tabapuã\, 445 - Itaim Bibi\, São Paulo\, SP\, 04533-011\, Brazil
END:VEVENT
END:VCALENDAR