BEGIN:VCALENDAR
VERSION:2.0
PRODID:-//Radarpag - ECPv5.2.1.1//NONSGML v1.0//EN
CALSCALE:GREGORIAN
METHOD:PUBLISH
X-WR-CALNAME:Radarpag
X-ORIGINAL-URL:https://radarpag.com.br
X-WR-CALDESC:Eventos para Radarpag
BEGIN:VTIMEZONE
TZID:America/Sao_Paulo
BEGIN:STANDARD
TZOFFSETFROM:-0300
TZOFFSETTO:-0300
TZNAME:-03
DTSTART:20220101T000000
END:STANDARD
END:VTIMEZONE
BEGIN:VEVENT
DTSTART;TZID=America/Sao_Paulo:20220525T093000
DTEND;TZID=America/Sao_Paulo:20220525T183000
DTSTAMP:20260423T102648
CREATED:20220503T211147Z
LAST-MODIFIED:20220503T211147Z
UID:62557-1653471000-1653503400@radarpag.com.br
SUMMARY:Forum CB - Bancos\, Telcos e Utilities
DESCRIPTION:
URL:https://radarpag.com.br/evento/forum-cb-bancos-telcos-e-utilities/
LOCATION:Online\, Brazil
ATTACH;FMTTYPE=image/jpeg:https://radarpag.com.br/wp-content/uploads/2022/05/Cantarino-Brasileiro_240522.jpg
END:VEVENT
END:VCALENDAR