BEGIN:VCALENDAR
VERSION:2.0
PRODID:-//Radarpag - ECPv5.2.1.1//NONSGML v1.0//EN
CALSCALE:GREGORIAN
METHOD:PUBLISH
X-WR-CALNAME:Radarpag
X-ORIGINAL-URL:https://radarpag.com.br
X-WR-CALDESC:Eventos para Radarpag
BEGIN:VTIMEZONE
TZID:America/Sao_Paulo
BEGIN:STANDARD
TZOFFSETFROM:-0300
TZOFFSETTO:-0300
TZNAME:-03
DTSTART:20210101T000000
END:STANDARD
END:VTIMEZONE
BEGIN:VEVENT
DTSTART;TZID=America/Sao_Paulo:20210329T083000
DTEND;TZID=America/Sao_Paulo:20210329T200000
DTSTAMP:20260422T091301
CREATED:20210315T164955Z
LAST-MODIFIED:20210315T164955Z
UID:8823-1617006600-1617048000@radarpag.com.br
SUMMARY:Future of Money - Uma trilha para o mundo do dinheiro
DESCRIPTION:
URL:https://radarpag.com.br/evento/future-of-money-uma-trilha-para-o-mundo-do-dinheiro/
LOCATION:Online\, Brazil
ATTACH;FMTTYPE=image/jpeg:https://radarpag.com.br/wp-content/uploads/2021/03/exame_290321.jpg
END:VEVENT
END:VCALENDAR