BEGIN:VCALENDAR
VERSION:2.0
PRODID:-//Radarpag - ECPv5.2.1.1//NONSGML v1.0//EN
CALSCALE:GREGORIAN
METHOD:PUBLISH
X-WR-CALNAME:Radarpag
X-ORIGINAL-URL:https://radarpag.com.br
X-WR-CALDESC:Eventos para Radarpag
BEGIN:VTIMEZONE
TZID:America/Sao_Paulo
BEGIN:STANDARD
TZOFFSETFROM:-0300
TZOFFSETTO:-0300
TZNAME:-03
DTSTART:20210101T000000
END:STANDARD
END:VTIMEZONE
BEGIN:VEVENT
DTSTART;TZID=America/Sao_Paulo:20210218T110000
DTEND;TZID=America/Sao_Paulo:20210218T120000
DTSTAMP:20260420T133402
CREATED:20210204T233453Z
LAST-MODIFIED:20210204T233453Z
UID:4802-1613646000-1613649600@radarpag.com.br
SUMMARY:Live Finnet - A Evolução dos Sistemas de Pagamento no Brasil
DESCRIPTION:
URL:https://radarpag.com.br/evento/live-finnet-a-evolucao-dos-sistemas-de-pagamento-no-brasil/
LOCATION:Online\, Brazil
ATTACH;FMTTYPE=image/png:https://radarpag.com.br/wp-content/uploads/2021/02/finnet_180221.png
END:VEVENT
END:VCALENDAR