BEGIN:VCALENDAR
VERSION:2.0
PRODID:-//Radarpag - ECPv5.2.1.1//NONSGML v1.0//EN
CALSCALE:GREGORIAN
METHOD:PUBLISH
X-WR-CALNAME:Radarpag
X-ORIGINAL-URL:https://radarpag.com.br
X-WR-CALDESC:Eventos para Radarpag
BEGIN:VTIMEZONE
TZID:America/Sao_Paulo
BEGIN:STANDARD
TZOFFSETFROM:-0300
TZOFFSETTO:-0300
TZNAME:-03
DTSTART:20220101T000000
END:STANDARD
END:VTIMEZONE
BEGIN:VEVENT
DTSTART;TZID=America/Sao_Paulo:20220317T130000
DTEND;TZID=America/Sao_Paulo:20220317T140000
DTSTAMP:20260424T051626
CREATED:20220311T191759Z
LAST-MODIFIED:20220311T191759Z
UID:57141-1647522000-1647525600@radarpag.com.br
SUMMARY:OBE March Campfire - Digital Identity in the World of Open Banking
DESCRIPTION:
URL:https://radarpag.com.br/evento/obe-march-campfire-digital-identity-in-the-world-of-open-banking/
LOCATION:Online\, Brazil
ATTACH;FMTTYPE=image/png:https://radarpag.com.br/wp-content/uploads/2022/03/Open-Banking-Excellence_170322.png
END:VEVENT
END:VCALENDAR