BEGIN:VCALENDAR
VERSION:2.0
PRODID:-//Radarpag - ECPv5.2.1.1//NONSGML v1.0//EN
CALSCALE:GREGORIAN
METHOD:PUBLISH
X-WR-CALNAME:Radarpag
X-ORIGINAL-URL:https://radarpag.com.br
X-WR-CALDESC:Eventos para Radarpag
BEGIN:VTIMEZONE
TZID:America/Sao_Paulo
BEGIN:STANDARD
TZOFFSETFROM:-0300
TZOFFSETTO:-0300
TZNAME:-03
DTSTART:20210101T000000
END:STANDARD
END:VTIMEZONE
BEGIN:VEVENT
DTSTART;TZID=America/Sao_Paulo:20210216T070000
DTEND;TZID=America/Sao_Paulo:20210216T080000
DTSTAMP:20260420T184917
CREATED:20210204T234326Z
LAST-MODIFIED:20210204T234326Z
UID:4811-1613458800-1613462400@radarpag.com.br
SUMMARY:Open Banking coming of age: How banks evolve as API providers
DESCRIPTION:
URL:https://radarpag.com.br/evento/open-banking-coming-of-age-how-banks-evolve-as-api-providers/
LOCATION:Online\, Brazil
ATTACH;FMTTYPE=image/jpeg:https://radarpag.com.br/wp-content/uploads/2021/02/axway_160221.jpg
END:VEVENT
END:VCALENDAR