BEGIN:VCALENDAR
VERSION:2.0
PRODID:-//Radarpag - ECPv5.2.1.1//NONSGML v1.0//EN
CALSCALE:GREGORIAN
METHOD:PUBLISH
X-WR-CALNAME:Radarpag
X-ORIGINAL-URL:https://radarpag.com.br
X-WR-CALDESC:Eventos para Radarpag
BEGIN:VTIMEZONE
TZID:America/Sao_Paulo
BEGIN:STANDARD
TZOFFSETFROM:-0300
TZOFFSETTO:-0300
TZNAME:-03
DTSTART:20210101T000000
END:STANDARD
END:VTIMEZONE
BEGIN:VEVENT
DTSTART;TZID=America/Sao_Paulo:20210211T150000
DTEND;TZID=America/Sao_Paulo:20210211T150000
DTSTAMP:20260420T222539
CREATED:20210208T154219Z
LAST-MODIFIED:20210208T154219Z
UID:5136-1613055600-1613055600@radarpag.com.br
SUMMARY:Open Banking: potenciais do modelo brasileiro
DESCRIPTION:
URL:https://radarpag.com.br/evento/open-banking-potenciais-do-modelo-brasileiro/
LOCATION:Online\, Brazil
END:VEVENT
END:VCALENDAR