BEGIN:VCALENDAR
VERSION:2.0
PRODID:-//Radarpag - ECPv5.2.1.1//NONSGML v1.0//EN
CALSCALE:GREGORIAN
METHOD:PUBLISH
X-WR-CALNAME:Radarpag
X-ORIGINAL-URL:https://radarpag.com.br
X-WR-CALDESC:Eventos para Radarpag
BEGIN:VTIMEZONE
TZID:America/Sao_Paulo
BEGIN:STANDARD
TZOFFSETFROM:-0300
TZOFFSETTO:-0300
TZNAME:-03
DTSTART:20220101T000000
END:STANDARD
END:VTIMEZONE
BEGIN:VEVENT
DTSTART;TZID=America/Sao_Paulo:20220413T190000
DTEND;TZID=America/Sao_Paulo:20220413T200000
DTSTAMP:20260423T073657
CREATED:20220411T160007Z
LAST-MODIFIED:20220411T160007Z
UID:60379-1649876400-1649880000@radarpag.com.br
SUMMARY:Product Leaders Panel: The Future of FinTech
DESCRIPTION:
URL:https://radarpag.com.br/evento/product-leaders-panel-the-future-of-fintech/
LOCATION:Online\, Brazil
ATTACH;FMTTYPE=image/png:https://radarpag.com.br/wp-content/uploads/2022/04/Finder_130422.png
END:VEVENT
END:VCALENDAR