BEGIN:VCALENDAR
VERSION:2.0
PRODID:-//Radarpag - ECPv5.2.1.1//NONSGML v1.0//EN
CALSCALE:GREGORIAN
METHOD:PUBLISH
X-WR-CALNAME:Radarpag
X-ORIGINAL-URL:https://radarpag.com.br
X-WR-CALDESC:Eventos para Radarpag
BEGIN:VTIMEZONE
TZID:America/Sao_Paulo
BEGIN:STANDARD
TZOFFSETFROM:-0300
TZOFFSETTO:-0300
TZNAME:-03
DTSTART:20210101T000000
END:STANDARD
END:VTIMEZONE
BEGIN:VEVENT
DTSTART;TZID=America/Sao_Paulo:20210310T090000
DTEND;TZID=America/Sao_Paulo:20210310T100000
DTSTAMP:20260424T054905
CREATED:20210304T160155Z
LAST-MODIFIED:20210304T160155Z
UID:7769-1615366800-1615370400@radarpag.com.br
SUMMARY:Webinar Open Banking – Segurança de Informações e Privacidade de Dados
DESCRIPTION:
URL:https://radarpag.com.br/evento/webinar-open-banking-seguranca-de-informacoes-e-privacidade-de-dados/
LOCATION:Online\, Brazil
ATTACH;FMTTYPE=image/jpeg:https://radarpag.com.br/wp-content/uploads/2021/03/icts-protiviti_100321.jpg
END:VEVENT
END:VCALENDAR