BEGIN:VCALENDAR
VERSION:2.0
PRODID:-//Radarpag - ECPv5.2.1.1//NONSGML v1.0//EN
CALSCALE:GREGORIAN
METHOD:PUBLISH
X-WR-CALNAME:Radarpag
X-ORIGINAL-URL:https://radarpag.com.br
X-WR-CALDESC:Eventos para Radarpag
BEGIN:VTIMEZONE
TZID:America/Sao_Paulo
BEGIN:STANDARD
TZOFFSETFROM:-0300
TZOFFSETTO:-0300
TZNAME:-03
DTSTART:20210101T000000
END:STANDARD
END:VTIMEZONE
BEGIN:VEVENT
DTSTART;TZID=America/Sao_Paulo:20210211T100000
DTEND;TZID=America/Sao_Paulo:20210211T100000
DTSTAMP:20260421T001458
CREATED:20210208T183724Z
LAST-MODIFIED:20210208T183724Z
UID:5146-1613037600-1613037600@radarpag.com.br
SUMMARY:Webinário LGPD em Movimento: LGPD e Direito dos Titulares
DESCRIPTION:
URL:https://radarpag.com.br/evento/webinario-lgpd-em-movimento-lgpd-e-direito-dos-titulares/
LOCATION:Online\, Brazil
END:VEVENT
END:VCALENDAR